BEGIN:VCALENDAR
VERSION:2.0
PRODID:-//Colegio Instituto - ECPv6.15.12.2//NONSGML v1.0//EN
CALSCALE:GREGORIAN
METHOD:PUBLISH
X-WR-CALNAME:Colegio Instituto
X-ORIGINAL-URL:https://institutosanpedro.cl/inicio
X-WR-CALDESC:Eventos para Colegio Instituto
REFRESH-INTERVAL;VALUE=DURATION:PT1H
X-Robots-Tag:noindex
X-PUBLISHED-TTL:PT1H
BEGIN:VTIMEZONE
TZID:UTC
BEGIN:STANDARD
TZOFFSETFROM:+0000
TZOFFSETTO:+0000
TZNAME:UTC
DTSTART:20230101T000000
END:STANDARD
END:VTIMEZONE
BEGIN:VEVENT
DTSTART;TZID=UTC:20240806T100000
DTEND;TZID=UTC:20240806T233000
DTSTAMP:20260426T011741
CREATED:20240806T132146Z
LAST-MODIFIED:20240806T132647Z
UID:2669-1722938400-1722987000@institutosanpedro.cl
SUMMARY:Taller Promesa 2 (Pre Kínder a 4° Básico)
DESCRIPTION:
URL:https://institutosanpedro.cl/inicio/calendario/taller-promesa-pre-kinder-a-4-basico/
CATEGORIES:Purpura
END:VEVENT
BEGIN:VEVENT
DTSTART;TZID=UTC:20240806T141500
DTEND;TZID=UTC:20240806T153000
DTSTAMP:20260426T011741
CREATED:20240806T132430Z
LAST-MODIFIED:20240806T132532Z
UID:2671-1722953700-1722958200@institutosanpedro.cl
SUMMARY:Taller Liderazgo para Estudiantes
DESCRIPTION:
URL:https://institutosanpedro.cl/inicio/calendario/taller-liderazgo-para-estudiantes/
CATEGORIES:Purpura
END:VEVENT
BEGIN:VEVENT
DTSTART;TZID=UTC:20240806T143000
DTEND;TZID=UTC:20240806T153000
DTSTAMP:20260426T011741
CREATED:20240806T131905Z
LAST-MODIFIED:20240806T131946Z
UID:2666-1722954600-1722958200@institutosanpedro.cl
SUMMARY:Reunión por Nivel 5° a 8° Básico: Área Académica
DESCRIPTION:
URL:https://institutosanpedro.cl/inicio/calendario/reunion-por-nivel-5-a-8-basico-area-academica/
CATEGORIES:Verde Fluor
END:VEVENT
END:VCALENDAR