BEGIN:VCALENDAR
VERSION:2.0
PRODID:-//Colegio Instituto - ECPv6.15.12.2//NONSGML v1.0//EN
CALSCALE:GREGORIAN
METHOD:PUBLISH
X-ORIGINAL-URL:https://institutosanpedro.cl/inicio
X-WR-CALDESC:Eventos para Colegio Instituto
REFRESH-INTERVAL;VALUE=DURATION:PT1H
X-Robots-Tag:noindex
X-PUBLISHED-TTL:PT1H
BEGIN:VTIMEZONE
TZID:UTC
BEGIN:STANDARD
TZOFFSETFROM:+0000
TZOFFSETTO:+0000
TZNAME:UTC
DTSTART:20230101T000000
END:STANDARD
END:VTIMEZONE
BEGIN:VEVENT
DTSTART;TZID=UTC:20240807T080000
DTEND;TZID=UTC:20240807T223000
DTSTAMP:20260426T011936
CREATED:20240806T133217Z
LAST-MODIFIED:20240806T135244Z
UID:2678-1723017600-1723069800@institutosanpedro.cl
SUMMARY:Ensayo PAES Matemática UDD
DESCRIPTION:IV medio
URL:https://institutosanpedro.cl/inicio/calendario/ensayo-paes-matematica-udd/
CATEGORIES:Fucsia
END:VEVENT
BEGIN:VEVENT
DTSTART;TZID=UTC:20240807T091500
DTEND;TZID=UTC:20240807T173000
DTSTAMP:20260426T011936
CREATED:20240806T133407Z
LAST-MODIFIED:20240806T133407Z
UID:2680-1723022100-1723051800@institutosanpedro.cl
SUMMARY:Operativo Coalivi
DESCRIPTION:
URL:https://institutosanpedro.cl/inicio/calendario/operativo-coalivi/
CATEGORIES:Naranjo
END:VEVENT
BEGIN:VEVENT
DTSTART;TZID=UTC:20240807T153000
DTEND;TZID=UTC:20240807T163000
DTSTAMP:20260426T011936
CREATED:20240806T135149Z
LAST-MODIFIED:20240806T142549Z
UID:2682-1723044600-1723048200@institutosanpedro.cl
SUMMARY:Reunión por Nivel I° a IV medio: Área Académica
DESCRIPTION:
URL:https://institutosanpedro.cl/inicio/calendario/reunion-por-nivel-i-a-iv-medio-area-academica/
CATEGORIES:Verde Fluor
END:VEVENT
END:VCALENDAR