BEGIN:VCALENDAR
VERSION:2.0
PRODID:-//Colegio Instituto - ECPv6.15.12.2//NONSGML v1.0//EN
CALSCALE:GREGORIAN
METHOD:PUBLISH
X-WR-CALNAME:Colegio Instituto
X-ORIGINAL-URL:https://institutosanpedro.cl/inicio
X-WR-CALDESC:Eventos para Colegio Instituto
REFRESH-INTERVAL;VALUE=DURATION:PT1H
X-Robots-Tag:noindex
X-PUBLISHED-TTL:PT1H
BEGIN:VTIMEZONE
TZID:UTC
BEGIN:STANDARD
TZOFFSETFROM:+0000
TZOFFSETTO:+0000
TZNAME:UTC
DTSTART:20230101T000000
END:STANDARD
END:VTIMEZONE
BEGIN:VEVENT
DTSTART;VALUE=DATE:20240809
DTEND;VALUE=DATE:20240810
DTSTAMP:20260426T011820
CREATED:20240806T143332Z
LAST-MODIFIED:20240806T143349Z
UID:2699-1723161600-1723247999@institutosanpedro.cl
SUMMARY:Fútbol Femenino: CISP vs Helen Keller
DESCRIPTION:
URL:https://institutosanpedro.cl/inicio/calendario/futbol-femenino-colegio-vs-helen-keller/
CATEGORIES:Calipso
END:VEVENT
BEGIN:VEVENT
DTSTART;TZID=UTC:20240809T094500
DTEND;TZID=UTC:20240809T111500
DTSTAMP:20260426T011820
CREATED:20240806T143555Z
LAST-MODIFIED:20240806T143555Z
UID:2702-1723196700-1723202100@institutosanpedro.cl
SUMMARY:Charla Bioclean 3° Medio A
DESCRIPTION:
URL:https://institutosanpedro.cl/inicio/calendario/charla-bioclean-3-medio-a/
CATEGORIES:Naranjo
END:VEVENT
END:VCALENDAR