BEGIN:VCALENDAR
VERSION:2.0
PRODID:-//Colegio Instituto - ECPv6.15.12.2//NONSGML v1.0//EN
CALSCALE:GREGORIAN
METHOD:PUBLISH
X-ORIGINAL-URL:https://institutosanpedro.cl/inicio
X-WR-CALDESC:Eventos para Colegio Instituto
REFRESH-INTERVAL;VALUE=DURATION:PT1H
X-Robots-Tag:noindex
X-PUBLISHED-TTL:PT1H
BEGIN:VTIMEZONE
TZID:UTC
BEGIN:STANDARD
TZOFFSETFROM:+0000
TZOFFSETTO:+0000
TZNAME:UTC
DTSTART:20230101T000000
END:STANDARD
END:VTIMEZONE
BEGIN:VEVENT
DTSTART;VALUE=DATE:20240813
DTEND;VALUE=DATE:20240814
DTSTAMP:20260426T011947
CREATED:20240812T144447Z
LAST-MODIFIED:20240812T144652Z
UID:2847-1723507200-1723593599@institutosanpedro.cl
SUMMARY:Reunión Nivel PIE
DESCRIPTION:PK a 4° Básico (10:00 – 11:00) \n5° a 8° Básico (14:30 – 15:30)
URL:https://institutosanpedro.cl/inicio/calendario/reunion-nivel-pie/
CATEGORIES:Verde Fluor
END:VEVENT
BEGIN:VEVENT
DTSTART;VALUE=DATE:20240813
DTEND;VALUE=DATE:20240814
DTSTAMP:20260426T011947
CREATED:20240812T145419Z
LAST-MODIFIED:20240812T145442Z
UID:2855-1723507200-1723593599@institutosanpedro.cl
SUMMARY:Evaluación Dominio Lector
DESCRIPTION:5°básico B (9:45) \n4°básico A (15:45)
URL:https://institutosanpedro.cl/inicio/calendario/evaluacion-dominio-lector/
CATEGORIES:Fucsia
END:VEVENT
BEGIN:VEVENT
DTSTART;TZID=UTC:20240813T080000
DTEND;TZID=UTC:20240813T220000
DTSTAMP:20260426T011947
CREATED:20240812T143349Z
LAST-MODIFIED:20240812T143427Z
UID:2841-1723536000-1723586400@institutosanpedro.cl
SUMMARY:Ensayo PAES III medio CEPECH
DESCRIPTION:
URL:https://institutosanpedro.cl/inicio/calendario/ensayo-paes-iii-medio-cepech-2/
CATEGORIES:Fucsia
END:VEVENT
BEGIN:VEVENT
DTSTART;TZID=UTC:20240813T100000
DTEND;TZID=UTC:20240813T120000
DTSTAMP:20260426T011947
CREATED:20240812T143607Z
LAST-MODIFIED:20240812T143642Z
UID:2843-1723543200-1723550400@institutosanpedro.cl
SUMMARY:Curso Primeros Auxilios y DEA
DESCRIPTION:
URL:https://institutosanpedro.cl/inicio/calendario/curso-primeros-auxilios-y-dea/
CATEGORIES:Naranjo
END:VEVENT
BEGIN:VEVENT
DTSTART;TZID=UTC:20240813T121500
DTEND;TZID=UTC:20240813T130000
DTSTAMP:20260426T011947
CREATED:20240812T144046Z
LAST-MODIFIED:20240812T145945Z
UID:2845-1723551300-1723554000@institutosanpedro.cl
SUMMARY:Taller de Embajadores Socioemocionales de la Buena Convivencia 5° a 7°
DESCRIPTION:
URL:https://institutosanpedro.cl/inicio/calendario/taller-embajadores-socioemocionales-de-la-buena-convivencia-5-a-7/
CATEGORIES:Purpura
END:VEVENT
BEGIN:VEVENT
DTSTART;TZID=UTC:20240813T190000
DTEND;TZID=UTC:20240813T200000
DTSTAMP:20260426T011947
CREATED:20240812T145114Z
LAST-MODIFIED:20240812T145131Z
UID:2853-1723575600-1723579200@institutosanpedro.cl
SUMMARY:Ceremonia Lectura 1° A
DESCRIPTION:
URL:https://institutosanpedro.cl/inicio/calendario/ceremonia-lectura-1-a/
CATEGORIES:Naranjo
END:VEVENT
END:VCALENDAR