BEGIN:VCALENDAR
VERSION:2.0
PRODID:-//Colegio Instituto - ECPv6.15.12.2//NONSGML v1.0//EN
CALSCALE:GREGORIAN
METHOD:PUBLISH
X-ORIGINAL-URL:https://institutosanpedro.cl/inicio
X-WR-CALDESC:Eventos para Colegio Instituto
REFRESH-INTERVAL;VALUE=DURATION:PT1H
X-Robots-Tag:noindex
X-PUBLISHED-TTL:PT1H
BEGIN:VTIMEZONE
TZID:UTC
BEGIN:STANDARD
TZOFFSETFROM:+0000
TZOFFSETTO:+0000
TZNAME:UTC
DTSTART:20230101T000000
END:STANDARD
END:VTIMEZONE
BEGIN:VEVENT
DTSTART;TZID=UTC:20240820T100000
DTEND;TZID=UTC:20240820T230000
DTSTAMP:20260426T011937
CREATED:20240819T145942Z
LAST-MODIFIED:20240819T145942Z
UID:3012-1724148000-1724194800@institutosanpedro.cl
SUMMARY:Reunión Nivel PK° a 4° Básico: Convivencia Escolar
DESCRIPTION:
URL:https://institutosanpedro.cl/inicio/calendario/reunion-nivel-pk-a-4-basico-convivencia-escolar/
CATEGORIES:Verde Fluor
END:VEVENT
BEGIN:VEVENT
DTSTART;TZID=UTC:20240820T113000
DTEND;TZID=UTC:20240820T121500
DTSTAMP:20260426T011937
CREATED:20240819T150515Z
LAST-MODIFIED:20240819T150935Z
UID:3019-1724153400-1724156100@institutosanpedro.cl
SUMMARY:Taller de Fonoaudióloga para Estudiantes de 2° MB
DESCRIPTION:
URL:https://institutosanpedro.cl/inicio/calendario/taller-de-fonoaudiologa-para-estudiantes-de-2-mb/
CATEGORIES:Purpura
END:VEVENT
BEGIN:VEVENT
DTSTART;TZID=UTC:20240820T141500
DTEND;TZID=UTC:20240820T153000
DTSTAMP:20260426T011937
CREATED:20240819T150625Z
LAST-MODIFIED:20240819T150625Z
UID:3021-1724163300-1724167800@institutosanpedro.cl
SUMMARY:Taller de Liderazgo
DESCRIPTION:
URL:https://institutosanpedro.cl/inicio/calendario/taller-de-liderazgo/
CATEGORIES:Purpura
END:VEVENT
BEGIN:VEVENT
DTSTART;TZID=UTC:20240820T143000
DTEND;TZID=UTC:20240820T153000
DTSTAMP:20260426T011937
CREATED:20240819T150126Z
LAST-MODIFIED:20240819T150126Z
UID:3015-1724164200-1724167800@institutosanpedro.cl
SUMMARY:Reunión Nivel 5° a 8° Básico: Convivencia Escolar
DESCRIPTION:
URL:https://institutosanpedro.cl/inicio/calendario/reunion-nivel-5-a-8-basico-convivencia-escolar/
CATEGORIES:Verde Fluor
END:VEVENT
BEGIN:VEVENT
DTSTART;TZID=UTC:20240820T163000
DTEND;TZID=UTC:20240820T173000
DTSTAMP:20260426T011937
CREATED:20240819T150255Z
LAST-MODIFIED:20240819T151048Z
UID:3017-1724171400-1724175000@institutosanpedro.cl
SUMMARY:Taller de Terapeuta Ocupacional para Padres de Estudiantes Ciclo Menor con Diagnóstico TEA
DESCRIPTION:
URL:https://institutosanpedro.cl/inicio/calendario/taller-de-terapeuta-ocupacional-para-padres-de-estudiantes-ciclo-menor-con-diagnostico-tea/
CATEGORIES:Purpura
END:VEVENT
END:VCALENDAR