BEGIN:VCALENDAR
VERSION:2.0
PRODID:-//Colegio Instituto - ECPv6.15.12.2//NONSGML v1.0//EN
CALSCALE:GREGORIAN
METHOD:PUBLISH
X-WR-CALNAME:Colegio Instituto
X-ORIGINAL-URL:https://institutosanpedro.cl/inicio
X-WR-CALDESC:Eventos para Colegio Instituto
REFRESH-INTERVAL;VALUE=DURATION:PT1H
X-Robots-Tag:noindex
X-PUBLISHED-TTL:PT1H
BEGIN:VTIMEZONE
TZID:UTC
BEGIN:STANDARD
TZOFFSETFROM:+0000
TZOFFSETTO:+0000
TZNAME:UTC
DTSTART:20230101T000000
END:STANDARD
END:VTIMEZONE
BEGIN:VEVENT
DTSTART;TZID=UTC:20240821T153000
DTEND;TZID=UTC:20240821T163000
DTSTAMP:20260426T012554
CREATED:20240819T151217Z
LAST-MODIFIED:20240819T151217Z
UID:3025-1724254200-1724257800@institutosanpedro.cl
SUMMARY:Reunión Nivel I a IV medio: Convivencia Escolar
DESCRIPTION:
URL:https://institutosanpedro.cl/inicio/calendario/reunion-nivel-i-a-iv-medio-convivencia-escolar/
CATEGORIES:Verde Fluor
END:VEVENT
BEGIN:VEVENT
DTSTART;TZID=UTC:20240821T160000
DTEND;TZID=UTC:20240821T170000
DTSTAMP:20260426T012554
CREATED:20240819T151314Z
LAST-MODIFIED:20240819T151314Z
UID:3027-1724256000-1724259600@institutosanpedro.cl
SUMMARY:Visita Pintor Cristian Erré 2° básico A-B
DESCRIPTION:
URL:https://institutosanpedro.cl/inicio/calendario/visita-pintor-cristian-erre-2-basico-a-b/
CATEGORIES:Naranjo
END:VEVENT
END:VCALENDAR