BEGIN:VCALENDAR
VERSION:2.0
PRODID:-//Colegio Instituto - ECPv6.15.12.2//NONSGML v1.0//EN
CALSCALE:GREGORIAN
METHOD:PUBLISH
X-WR-CALNAME:Colegio Instituto
X-ORIGINAL-URL:https://institutosanpedro.cl/inicio
X-WR-CALDESC:Eventos para Colegio Instituto
REFRESH-INTERVAL;VALUE=DURATION:PT1H
X-Robots-Tag:noindex
X-PUBLISHED-TTL:PT1H
BEGIN:VTIMEZONE
TZID:UTC
BEGIN:STANDARD
TZOFFSETFROM:+0000
TZOFFSETTO:+0000
TZNAME:UTC
DTSTART:20230101T000000
END:STANDARD
END:VTIMEZONE
BEGIN:VEVENT
DTSTART;TZID=UTC:20240826T100000
DTEND;TZID=UTC:20240826T113000
DTSTAMP:20260426T000037
CREATED:20240822T153748Z
LAST-MODIFIED:20240822T161537Z
UID:3042-1724666400-1724671800@institutosanpedro.cl
SUMMARY:Trivia Interactiva Pre Kínder A y Kínder A
DESCRIPTION:Lugar: Salas Prekínder A y Kínder A
URL:https://institutosanpedro.cl/inicio/calendario/trivias-interactivas-ciclo-menor/
CATEGORIES:Purpura
END:VEVENT
BEGIN:VEVENT
DTSTART;TZID=UTC:20240826T110000
DTEND;TZID=UTC:20240826T140000
DTSTAMP:20260426T000037
CREATED:20240826T132020Z
LAST-MODIFIED:20240826T132020Z
UID:3096-1724670000-1724680800@institutosanpedro.cl
SUMMARY:Inauguración Muestra “Lota Puertas Afueras”
DESCRIPTION:
URL:https://institutosanpedro.cl/inicio/calendario/inauguracion-muestra-lota-puertas-afueras/
CATEGORIES:Naranjo
END:VEVENT
BEGIN:VEVENT
DTSTART;TZID=UTC:20240826T113000
DTEND;TZID=UTC:20240826T130000
DTSTAMP:20260426T000037
CREATED:20240822T154156Z
LAST-MODIFIED:20240822T161545Z
UID:3047-1724671800-1724677200@institutosanpedro.cl
SUMMARY:Trivia Interactiva Quintos y Sextos Básicos
DESCRIPTION:Lugar: Sala multiuso
URL:https://institutosanpedro.cl/inicio/calendario/trivia-interactiva-quintos-y-sextos-basicos/
CATEGORIES:Purpura
END:VEVENT
BEGIN:VEVENT
DTSTART;TZID=UTC:20240826T150000
DTEND;TZID=UTC:20240826T163000
DTSTAMP:20260426T000037
CREATED:20240826T132106Z
LAST-MODIFIED:20240826T132106Z
UID:3098-1724684400-1724689800@institutosanpedro.cl
SUMMARY:Partido de Futsal CISP vs Liceo A-21 de Talcahuano
DESCRIPTION:
URL:https://institutosanpedro.cl/inicio/calendario/partido-de-futsal-cisp-vs-liceo-a-21-de-talcahuano/
CATEGORIES:Celeste
END:VEVENT
BEGIN:VEVENT
DTSTART;TZID=UTC:20240826T160000
DTEND;TZID=UTC:20240826T173000
DTSTAMP:20260426T000037
CREATED:20240822T154417Z
LAST-MODIFIED:20240822T161552Z
UID:3049-1724688000-1724693400@institutosanpedro.cl
SUMMARY:Trivia Interactiva Primeros a Cuartos Básicos
DESCRIPTION:Lugar: Sala multiuso
URL:https://institutosanpedro.cl/inicio/calendario/trivia-interactiva-primeros-a-cuartos-basicos/
CATEGORIES:Purpura
END:VEVENT
END:VCALENDAR