BEGIN:VCALENDAR
VERSION:2.0
PRODID:-//Colegio Instituto - ECPv6.15.12.2//NONSGML v1.0//EN
CALSCALE:GREGORIAN
METHOD:PUBLISH
X-ORIGINAL-URL:https://institutosanpedro.cl/inicio
X-WR-CALDESC:Eventos para Colegio Instituto
REFRESH-INTERVAL;VALUE=DURATION:PT1H
X-Robots-Tag:noindex
X-PUBLISHED-TTL:PT1H
BEGIN:VTIMEZONE
TZID:UTC
BEGIN:STANDARD
TZOFFSETFROM:+0000
TZOFFSETTO:+0000
TZNAME:UTC
DTSTART:20230101T000000
END:STANDARD
END:VTIMEZONE
BEGIN:VEVENT
DTSTART;TZID=UTC:20240827T080000
DTEND;TZID=UTC:20240827T133000
DTSTAMP:20260426T000354
CREATED:20240826T132337Z
LAST-MODIFIED:20240826T132557Z
UID:3101-1724745600-1724765400@institutosanpedro.cl
SUMMARY:Ensayos PAES IV Medio
DESCRIPTION:
URL:https://institutosanpedro.cl/inicio/calendario/ensayos-paes-iv-medio/
CATEGORIES:Verde Fluor
END:VEVENT
BEGIN:VEVENT
DTSTART;TZID=UTC:20240827T100000
DTEND;TZID=UTC:20240827T143000
DTSTAMP:20260426T000354
CREATED:20240822T154815Z
LAST-MODIFIED:20240822T160928Z
UID:3051-1724752800-1724769000@institutosanpedro.cl
SUMMARY:Charlas de Ciencias Tecnología y Medioambiente
DESCRIPTION:(10:00) “El camino de la basura”\n(10:30) “Microbasurales y su impacto”\n(11:30) “Agujeros negros”\n(12:15) “Astronomía en Chile”\n(14:00) “Ciclo del agua” \nLugar: Sala Multiuso
URL:https://institutosanpedro.cl/inicio/calendario/charla-el-camino-de-la-basura/
CATEGORIES:Naranjo
END:VEVENT
BEGIN:VEVENT
DTSTART;TZID=UTC:20240827T150000
DTEND;TZID=UTC:20240827T150000
DTSTAMP:20260426T000354
CREATED:20240822T155656Z
LAST-MODIFIED:20240822T161448Z
UID:3057-1724770800-1724770800@institutosanpedro.cl
SUMMARY:Cohete de las Ciencias
DESCRIPTION:Lugar: Patio del colegio
URL:https://institutosanpedro.cl/inicio/calendario/charlas-de-tecnologia-y-medioambiente/
CATEGORIES:Purpura
END:VEVENT
BEGIN:VEVENT
DTSTART;TZID=UTC:20240827T170000
DTEND;TZID=UTC:20240827T180000
DTSTAMP:20260426T000354
CREATED:20240822T161145Z
LAST-MODIFIED:20240826T132229Z
UID:3065-1724778000-1724781600@institutosanpedro.cl
SUMMARY:Charla Ciencias para Padres
DESCRIPTION:(17:00) Escuela para Padres\nConsumo Consciente y\nMedioambiente \n(17:30) Escuela para Padres\nResiduos Orgánicos e Inorgánicos \nLugar: Sala Multiuso
URL:https://institutosanpedro.cl/inicio/calendario/escuela-para-padres/
CATEGORIES:Verde Fluor
END:VEVENT
END:VCALENDAR