BEGIN:VCALENDAR
VERSION:2.0
PRODID:-//Colegio Instituto - ECPv6.15.12.2//NONSGML v1.0//EN
CALSCALE:GREGORIAN
METHOD:PUBLISH
X-WR-CALNAME:Colegio Instituto
X-ORIGINAL-URL:https://institutosanpedro.cl/inicio
X-WR-CALDESC:Eventos para Colegio Instituto
REFRESH-INTERVAL;VALUE=DURATION:PT1H
X-Robots-Tag:noindex
X-PUBLISHED-TTL:PT1H
BEGIN:VTIMEZONE
TZID:UTC
BEGIN:STANDARD
TZOFFSETFROM:+0000
TZOFFSETTO:+0000
TZNAME:UTC
DTSTART:20230101T000000
END:STANDARD
END:VTIMEZONE
BEGIN:VEVENT
DTSTART;TZID=UTC:20240830T080000
DTEND;TZID=UTC:20240830T100000
DTSTAMP:20260426T000031
CREATED:20240826T133434Z
LAST-MODIFIED:20240826T133434Z
UID:3111-1725004800-1725012000@institutosanpedro.cl
SUMMARY:Ensayo SIMCE Matemática 6° - II° Medio
DESCRIPTION:
URL:https://institutosanpedro.cl/inicio/calendario/ensayo-simce-matematica-6-ii-medio/
CATEGORIES:Verde Fluor
END:VEVENT
BEGIN:VEVENT
DTSTART;TZID=UTC:20240830T090000
DTEND;TZID=UTC:20240830T120000
DTSTAMP:20260426T000031
CREATED:20240826T133639Z
LAST-MODIFIED:20240826T133655Z
UID:3115-1725008400-1725019200@institutosanpedro.cl
SUMMARY:Seminario TECH WISE II° A IV° Medio
DESCRIPTION:
URL:https://institutosanpedro.cl/inicio/calendario/seminario-tech-wise-ii-a-iv-medio/
CATEGORIES:Purpura
END:VEVENT
BEGIN:VEVENT
DTSTART;TZID=UTC:20240830T133000
DTEND;TZID=UTC:20240830T140000
DTSTAMP:20260426T000031
CREATED:20240826T133755Z
LAST-MODIFIED:20240826T133755Z
UID:3117-1725024600-1725026400@institutosanpedro.cl
SUMMARY:Finaliza Proceso de Sistema de Admisión Escolar (SAE)
DESCRIPTION:
URL:https://institutosanpedro.cl/inicio/calendario/finaliza-proceso-de-sistema-de-admision-escolar-sae/
CATEGORIES:Naranjo
END:VEVENT
BEGIN:VEVENT
DTSTART;TZID=UTC:20240830T140000
DTEND;TZID=UTC:20240830T160000
DTSTAMP:20260426T000031
CREATED:20240826T133530Z
LAST-MODIFIED:20240826T133530Z
UID:3113-1725026400-1725033600@institutosanpedro.cl
SUMMARY:Ensayo SIMCE MATEMÁTICA 4°básico
DESCRIPTION:
URL:https://institutosanpedro.cl/inicio/calendario/ensayo-simce-matematica-4basico/
CATEGORIES:Verde Fluor
END:VEVENT
END:VCALENDAR