BEGIN:VCALENDAR
VERSION:2.0
PRODID:-//Colegio Instituto - ECPv6.15.12.2//NONSGML v1.0//EN
CALSCALE:GREGORIAN
METHOD:PUBLISH
X-ORIGINAL-URL:https://institutosanpedro.cl/inicio
X-WR-CALDESC:Eventos para Colegio Instituto
REFRESH-INTERVAL;VALUE=DURATION:PT1H
X-Robots-Tag:noindex
X-PUBLISHED-TTL:PT1H
BEGIN:VTIMEZONE
TZID:UTC
BEGIN:STANDARD
TZOFFSETFROM:+0000
TZOFFSETTO:+0000
TZNAME:UTC
DTSTART:20230101T000000
END:STANDARD
END:VTIMEZONE
BEGIN:VEVENT
DTSTART;TZID=UTC:20241002T150000
DTEND;TZID=UTC:20241002T170000
DTSTAMP:20260425T221829
CREATED:20240930T152546Z
LAST-MODIFIED:20240930T152546Z
UID:3282-1727881200-1727888400@institutosanpedro.cl
SUMMARY:Aniversario N°62 CISP (actividades deportivas)
DESCRIPTION:
URL:https://institutosanpedro.cl/inicio/calendario/aniversario-n62-cisp-actividades-deportivas/
CATEGORIES:Celeste
END:VEVENT
BEGIN:VEVENT
DTSTART;TZID=UTC:20241002T153000
DTEND;TZID=UTC:20241002T163000
DTSTAMP:20260425T221829
CREATED:20240930T152713Z
LAST-MODIFIED:20240930T152713Z
UID:3284-1727883000-1727886600@institutosanpedro.cl
SUMMARY:Reunión Nivel I a IV Medio: Académica
DESCRIPTION:
URL:https://institutosanpedro.cl/inicio/calendario/reunion-nivel-i-a-iv-medio-academica/
CATEGORIES:Verde Fluor
END:VEVENT
END:VCALENDAR