BEGIN:VCALENDAR
VERSION:2.0
PRODID:-//Colegio Instituto - ECPv6.15.12.2//NONSGML v1.0//EN
CALSCALE:GREGORIAN
METHOD:PUBLISH
X-ORIGINAL-URL:https://institutosanpedro.cl/inicio
X-WR-CALDESC:Eventos para Colegio Instituto
REFRESH-INTERVAL;VALUE=DURATION:PT1H
X-Robots-Tag:noindex
X-PUBLISHED-TTL:PT1H
BEGIN:VTIMEZONE
TZID:UTC
BEGIN:STANDARD
TZOFFSETFROM:+0000
TZOFFSETTO:+0000
TZNAME:UTC
DTSTART:20230101T000000
END:STANDARD
END:VTIMEZONE
BEGIN:VEVENT
DTSTART;TZID=UTC:20241003T080000
DTEND;TZID=UTC:20241003T130000
DTSTAMP:20260425T220412
CREATED:20240930T152833Z
LAST-MODIFIED:20240930T152833Z
UID:3286-1727942400-1727960400@institutosanpedro.cl
SUMMARY:Actividades Alianzas Jornada AM
DESCRIPTION:
URL:https://institutosanpedro.cl/inicio/calendario/actividades-alianzas-jornada-am/
CATEGORIES:Purpura
END:VEVENT
BEGIN:VEVENT
DTSTART;TZID=UTC:20241003T140000
DTEND;TZID=UTC:20241003T170000
DTSTAMP:20260425T220412
CREATED:20240930T153348Z
LAST-MODIFIED:20240930T153348Z
UID:3294-1727964000-1727974800@institutosanpedro.cl
SUMMARY:Inauguración Semana Aniversario Jornada PM
DESCRIPTION:
URL:https://institutosanpedro.cl/inicio/calendario/inauguracion-semana-aniversario-jornada-pm/
CATEGORIES:Naranjo
END:VEVENT
BEGIN:VEVENT
DTSTART;TZID=UTC:20241003T180000
DTEND;TZID=UTC:20241003T190000
DTSTAMP:20260425T220412
CREATED:20240930T153021Z
LAST-MODIFIED:20240930T153209Z
UID:3290-1727978400-1727982000@institutosanpedro.cl
SUMMARY:Escuela para Padres 7° a IV° Medio
DESCRIPTION:
URL:https://institutosanpedro.cl/inicio/calendario/escuela-para-padres-7-a-iv-medio/
CATEGORIES:Verde Fluor
END:VEVENT
BEGIN:VEVENT
DTSTART;TZID=UTC:20241003T190000
DTEND;TZID=UTC:20241003T200000
DTSTAMP:20260425T220412
CREATED:20240930T153151Z
LAST-MODIFIED:20240930T153151Z
UID:3292-1727982000-1727985600@institutosanpedro.cl
SUMMARY:Reunión Apoderados 7° Básico a IV Medio
DESCRIPTION:
URL:https://institutosanpedro.cl/inicio/calendario/reunion-apoderados-7-basico-a-iv-medio/
CATEGORIES:Verde Fluor
END:VEVENT
END:VCALENDAR