BEGIN:VCALENDAR
VERSION:2.0
PRODID:-//Colegio Instituto - ECPv6.15.12.2//NONSGML v1.0//EN
CALSCALE:GREGORIAN
METHOD:PUBLISH
X-WR-CALNAME:Colegio Instituto
X-ORIGINAL-URL:https://institutosanpedro.cl/inicio
X-WR-CALDESC:Eventos para Colegio Instituto
REFRESH-INTERVAL;VALUE=DURATION:PT1H
X-Robots-Tag:noindex
X-PUBLISHED-TTL:PT1H
BEGIN:VTIMEZONE
TZID:UTC
BEGIN:STANDARD
TZOFFSETFROM:+0000
TZOFFSETTO:+0000
TZNAME:UTC
DTSTART:20230101T000000
END:STANDARD
END:VTIMEZONE
BEGIN:VEVENT
DTSTART;VALUE=DATE:20241008
DTEND;VALUE=DATE:20241009
DTSTAMP:20260425T221223
CREATED:20241008T185225Z
LAST-MODIFIED:20241008T185225Z
UID:3324-1728345600-1728431999@institutosanpedro.cl
SUMMARY:Reunión Nivel Área PIE desde 5° a 8° Básico
DESCRIPTION:
URL:https://institutosanpedro.cl/inicio/calendario/reunion-nivel-area-pie-desde-5-a-8-basico/
CATEGORIES:Verde Fluor
END:VEVENT
BEGIN:VEVENT
DTSTART;TZID=UTC:20241008T080000
DTEND;TZID=UTC:20241008T090000
DTSTAMP:20260425T221223
CREATED:20241007T123701Z
LAST-MODIFIED:20241008T190135Z
UID:3307-1728374400-1728378000@institutosanpedro.cl
SUMMARY:Ensayo PAES IV Medio Matemáticas
DESCRIPTION:
URL:https://institutosanpedro.cl/inicio/calendario/ensayo-paes-unab-matematica/
CATEGORIES:Verde Fluor
END:VEVENT
END:VCALENDAR