BEGIN:VCALENDAR
VERSION:2.0
PRODID:-//Colegio Instituto - ECPv6.15.12.2//NONSGML v1.0//EN
CALSCALE:GREGORIAN
METHOD:PUBLISH
X-ORIGINAL-URL:https://institutosanpedro.cl/inicio
X-WR-CALDESC:Eventos para Colegio Instituto
REFRESH-INTERVAL;VALUE=DURATION:PT1H
X-Robots-Tag:noindex
X-PUBLISHED-TTL:PT1H
BEGIN:VTIMEZONE
TZID:UTC
BEGIN:STANDARD
TZOFFSETFROM:+0000
TZOFFSETTO:+0000
TZNAME:UTC
DTSTART:20230101T000000
END:STANDARD
END:VTIMEZONE
BEGIN:VEVENT
DTSTART;VALUE=DATE:20241010
DTEND;VALUE=DATE:20241011
DTSTAMP:20260425T221418
CREATED:20241008T185745Z
LAST-MODIFIED:20241008T185827Z
UID:3329-1728518400-1728604799@institutosanpedro.cl
SUMMARY:Reunión Nivel: Área PIE desde Pre Kínder a 4° Básico
DESCRIPTION:
URL:https://institutosanpedro.cl/inicio/calendario/reunion-nivel-area-pie-desde-pre-kinder-a-4-basico/
CATEGORIES:Verde Fluor
END:VEVENT
BEGIN:VEVENT
DTSTART;TZID=UTC:20241010T080000
DTEND;TZID=UTC:20241010T170000
DTSTAMP:20260425T221418
CREATED:20241007T123937Z
LAST-MODIFIED:20241008T190211Z
UID:3311-1728547200-1728579600@institutosanpedro.cl
SUMMARY:Ensayo SIMCE 6° y II° Medio
DESCRIPTION:
URL:https://institutosanpedro.cl/inicio/calendario/ensayo-simce-6-y-ii-medio/
CATEGORIES:Verde Fluor
END:VEVENT
BEGIN:VEVENT
DTSTART;TZID=UTC:20241010T080000
DTEND;TZID=UTC:20241010T170000
DTSTAMP:20260425T221418
CREATED:20241007T124039Z
LAST-MODIFIED:20241008T190211Z
UID:3313-1728547200-1728579600@institutosanpedro.cl
SUMMARY:Ensayo SIMCE 4° Básico
DESCRIPTION:
URL:https://institutosanpedro.cl/inicio/calendario/ensayo-simce-4-basico/
CATEGORIES:Verde Fluor
END:VEVENT
END:VCALENDAR