BEGIN:VCALENDAR
VERSION:2.0
PRODID:-//Colegio Instituto - ECPv6.15.12.2//NONSGML v1.0//EN
CALSCALE:GREGORIAN
METHOD:PUBLISH
X-WR-CALNAME:Colegio Instituto
X-ORIGINAL-URL:https://institutosanpedro.cl/inicio
X-WR-CALDESC:Eventos para Colegio Instituto
REFRESH-INTERVAL;VALUE=DURATION:PT1H
X-Robots-Tag:noindex
X-PUBLISHED-TTL:PT1H
BEGIN:VTIMEZONE
TZID:UTC
BEGIN:STANDARD
TZOFFSETFROM:+0000
TZOFFSETTO:+0000
TZNAME:UTC
DTSTART:20230101T000000
END:STANDARD
END:VTIMEZONE
BEGIN:VEVENT
DTSTART;TZID=UTC:20241011T080000
DTEND;TZID=UTC:20241011T093000
DTSTAMP:20260425T221829
CREATED:20241007T124228Z
LAST-MODIFIED:20241008T190217Z
UID:3316-1728633600-1728639000@institutosanpedro.cl
SUMMARY:Ensayo SIMCE 6° y II Medio
DESCRIPTION:
URL:https://institutosanpedro.cl/inicio/calendario/ensayo-simce-6-y-ii-medio-2/
CATEGORIES:Verde Fluor
END:VEVENT
BEGIN:VEVENT
DTSTART;TZID=UTC:20241011T080000
DTEND;TZID=UTC:20241011T093000
DTSTAMP:20260425T221829
CREATED:20241007T124309Z
LAST-MODIFIED:20241008T190223Z
UID:3318-1728633600-1728639000@institutosanpedro.cl
SUMMARY:Ensayo SIMCE 4° Básico
DESCRIPTION:
URL:https://institutosanpedro.cl/inicio/calendario/ensayo-simce-4-basico-2/
CATEGORIES:Verde Fluor
END:VEVENT
BEGIN:VEVENT
DTSTART;TZID=UTC:20241011T103000
DTEND;TZID=UTC:20241011T120000
DTSTAMP:20260425T221829
CREATED:20241007T124603Z
LAST-MODIFIED:20241008T190012Z
UID:3320-1728642600-1728648000@institutosanpedro.cl
SUMMARY:Debate Candidatos a Alcalde de Nuestra Comuna
DESCRIPTION:Asisten III° y IV° medio
URL:https://institutosanpedro.cl/inicio/calendario/debate-candidatos-alcalde/
CATEGORIES:Purpura
END:VEVENT
END:VCALENDAR