BEGIN:VCALENDAR
VERSION:2.0
PRODID:-//Colegio Instituto - ECPv6.15.12.2//NONSGML v1.0//EN
CALSCALE:GREGORIAN
METHOD:PUBLISH
X-ORIGINAL-URL:https://institutosanpedro.cl/inicio
X-WR-CALDESC:Eventos para Colegio Instituto
REFRESH-INTERVAL;VALUE=DURATION:PT1H
X-Robots-Tag:noindex
X-PUBLISHED-TTL:PT1H
BEGIN:VTIMEZONE
TZID:UTC
BEGIN:STANDARD
TZOFFSETFROM:+0000
TZOFFSETTO:+0000
TZNAME:UTC
DTSTART:20230101T000000
END:STANDARD
END:VTIMEZONE
BEGIN:VEVENT
DTSTART;TZID=UTC:20241015T100000
DTEND;TZID=UTC:20241015T110000
DTSTAMP:20260425T220709
CREATED:20241014T162703Z
LAST-MODIFIED:20241014T162703Z
UID:3383-1728986400-1728990000@institutosanpedro.cl
SUMMARY:Visita Supervisora SIMCE
DESCRIPTION:
URL:https://institutosanpedro.cl/inicio/calendario/visita-supervisora-simce/
CATEGORIES:Purpura
END:VEVENT
BEGIN:VEVENT
DTSTART;TZID=UTC:20241015T140000
DTEND;TZID=UTC:20241015T150000
DTSTAMP:20260425T220709
CREATED:20241014T162750Z
LAST-MODIFIED:20241014T163943Z
UID:3385-1729000800-1729004400@institutosanpedro.cl
SUMMARY:Visita Voluntarios Teletón
DESCRIPTION:
URL:https://institutosanpedro.cl/inicio/calendario/visita-voluntarios-teleton/
CATEGORIES:Purpura
END:VEVENT
END:VCALENDAR