BEGIN:VCALENDAR
VERSION:2.0
PRODID:-//Colegio Instituto - ECPv6.15.12.2//NONSGML v1.0//EN
CALSCALE:GREGORIAN
METHOD:PUBLISH
X-WR-CALNAME:Colegio Instituto
X-ORIGINAL-URL:https://institutosanpedro.cl/inicio
X-WR-CALDESC:Eventos para Colegio Instituto
REFRESH-INTERVAL;VALUE=DURATION:PT1H
X-Robots-Tag:noindex
X-PUBLISHED-TTL:PT1H
BEGIN:VTIMEZONE
TZID:UTC
BEGIN:STANDARD
TZOFFSETFROM:+0000
TZOFFSETTO:+0000
TZNAME:UTC
DTSTART:20230101T000000
END:STANDARD
END:VTIMEZONE
BEGIN:VEVENT
DTSTART;TZID=UTC:20241018T121500
DTEND;TZID=UTC:20241018T180000
DTSTAMP:20260425T220248
CREATED:20241014T164715Z
LAST-MODIFIED:20241014T164729Z
UID:3401-1729253700-1729274400@institutosanpedro.cl
SUMMARY:Encuentro Funcionarios
DESCRIPTION:
URL:https://institutosanpedro.cl/inicio/calendario/encuentro-funcionarios/
CATEGORIES:Naranjo
END:VEVENT
END:VCALENDAR