BEGIN:VCALENDAR
VERSION:2.0
PRODID:-//Colegio Instituto - ECPv6.15.12.2//NONSGML v1.0//EN
CALSCALE:GREGORIAN
METHOD:PUBLISH
X-ORIGINAL-URL:https://institutosanpedro.cl/inicio
X-WR-CALDESC:Eventos para Colegio Instituto
REFRESH-INTERVAL;VALUE=DURATION:PT1H
X-Robots-Tag:noindex
X-PUBLISHED-TTL:PT1H
BEGIN:VTIMEZONE
TZID:UTC
BEGIN:STANDARD
TZOFFSETFROM:+0000
TZOFFSETTO:+0000
TZNAME:UTC
DTSTART:20230101T000000
END:STANDARD
END:VTIMEZONE
BEGIN:VEVENT
DTSTART;TZID=UTC:20241104T100000
DTEND;TZID=UTC:20241104T110000
DTSTAMP:20260425T200300
CREATED:20241108T124625Z
LAST-MODIFIED:20241108T124625Z
UID:3555-1730714400-1730718000@institutosanpedro.cl
SUMMARY:Explora Tu Talento II° Medio B
DESCRIPTION:
URL:https://institutosanpedro.cl/inicio/calendario/explora-tu-talento-ii-medio-b/
CATEGORIES:Naranjo
END:VEVENT
BEGIN:VEVENT
DTSTART;TZID=UTC:20241104T113000
DTEND;TZID=UTC:20241104T130000
DTSTAMP:20260425T200300
CREATED:20241108T124707Z
LAST-MODIFIED:20241108T124707Z
UID:3557-1730719800-1730725200@institutosanpedro.cl
SUMMARY:Elección Discurso IV° Medio en Biblioteca
DESCRIPTION:
URL:https://institutosanpedro.cl/inicio/calendario/eleccion-discurso-iv-medio-en-biblioteca/
CATEGORIES:Verde Fluor
END:VEVENT
END:VCALENDAR