BEGIN:VCALENDAR
VERSION:2.0
PRODID:-//Colegio Instituto - ECPv6.15.12.2//NONSGML v1.0//EN
CALSCALE:GREGORIAN
METHOD:PUBLISH
X-ORIGINAL-URL:https://institutosanpedro.cl/inicio
X-WR-CALDESC:Eventos para Colegio Instituto
REFRESH-INTERVAL;VALUE=DURATION:PT1H
X-Robots-Tag:noindex
X-PUBLISHED-TTL:PT1H
BEGIN:VTIMEZONE
TZID:UTC
BEGIN:STANDARD
TZOFFSETFROM:+0000
TZOFFSETTO:+0000
TZNAME:UTC
DTSTART:20230101T000000
END:STANDARD
END:VTIMEZONE
BEGIN:VEVENT
DTSTART;TZID=UTC:20241126T110000
DTEND;TZID=UTC:20241126T123000
DTSTAMP:20260425T182153
CREATED:20241125T195907Z
LAST-MODIFIED:20241125T195907Z
UID:3630-1732618800-1732624200@institutosanpedro.cl
SUMMARY:Charla “Habilidades para la Lectoescritura”
DESCRIPTION:Biblioteca
URL:https://institutosanpedro.cl/inicio/calendario/charla-habilidades-para-la-lectoescritura/
CATEGORIES:Purpura
END:VEVENT
BEGIN:VEVENT
DTSTART;TZID=UTC:20241126T113000
DTEND;TZID=UTC:20241126T123000
DTSTAMP:20260425T182153
CREATED:20241125T195633Z
LAST-MODIFIED:20241125T195633Z
UID:3626-1732620600-1732624200@institutosanpedro.cl
SUMMARY:Taller para Estudiantes 8°A Fonoaudióloga
DESCRIPTION:
URL:https://institutosanpedro.cl/inicio/calendario/taller-para-estudiantes-8a-fonoaudiologa/
CATEGORIES:Purpura
END:VEVENT
BEGIN:VEVENT
DTSTART;TZID=UTC:20241126T190000
DTEND;TZID=UTC:20241126T200000
DTSTAMP:20260425T182153
CREATED:20241125T195819Z
LAST-MODIFIED:20241125T195819Z
UID:3628-1732647600-1732651200@institutosanpedro.cl
SUMMARY:Reunión de Apoderados PK a 1° Básico y 3° a 6° Básico
DESCRIPTION:
URL:https://institutosanpedro.cl/inicio/calendario/reunion-de-apoderados-pk-a-1-basico-y-3-a-6-basico/
CATEGORIES:Verde Fluor
END:VEVENT
END:VCALENDAR