BEGIN:VCALENDAR
VERSION:2.0
PRODID:-//Colegio Instituto - ECPv6.15.12.2//NONSGML v1.0//EN
CALSCALE:GREGORIAN
METHOD:PUBLISH
X-WR-CALNAME:Colegio Instituto
X-ORIGINAL-URL:https://institutosanpedro.cl/inicio
X-WR-CALDESC:Eventos para Colegio Instituto
REFRESH-INTERVAL;VALUE=DURATION:PT1H
X-Robots-Tag:noindex
X-PUBLISHED-TTL:PT1H
BEGIN:VTIMEZONE
TZID:UTC
BEGIN:STANDARD
TZOFFSETFROM:+0000
TZOFFSETTO:+0000
TZNAME:UTC
DTSTART:20230101T000000
END:STANDARD
END:VTIMEZONE
BEGIN:VEVENT
DTSTART;VALUE=DATE:20240306
DTEND;VALUE=DATE:20240307
DTSTAMP:20260425T110648
CREATED:20240318T212949Z
LAST-MODIFIED:20240318T212949Z
UID:919-1709683200-1709769599@institutosanpedro.cl
SUMMARY:Acto Inicio Año Escolar 5° a IV medio
DESCRIPTION:
URL:https://institutosanpedro.cl/inicio/calendario/acto-inicio-ano-escolar-5-a-iv-medio/
CATEGORIES:Burdeo
END:VEVENT
BEGIN:VEVENT
DTSTART;VALUE=DATE:20240314
DTEND;VALUE=DATE:20240315
DTSTAMP:20260425T110648
CREATED:20240318T213645Z
LAST-MODIFIED:20240318T213645Z
UID:935-1710374400-1710460799@institutosanpedro.cl
SUMMARY:Reunión Apoderados I a IV medio
DESCRIPTION:
URL:https://institutosanpedro.cl/inicio/calendario/reunion-apoderados-i-a-iv-medio-3/
CATEGORIES:Burdeo
END:VEVENT
BEGIN:VEVENT
DTSTART;VALUE=DATE:20240327
DTEND;VALUE=DATE:20240328
DTSTAMP:20260425T110648
CREATED:20240318T194536Z
LAST-MODIFIED:20240318T194536Z
UID:828-1711497600-1711583999@institutosanpedro.cl
SUMMARY:1° Consejo Escolar
DESCRIPTION:
URL:https://institutosanpedro.cl/inicio/calendario/1-consejo-escolar/
CATEGORIES:Burdeo
END:VEVENT
END:VCALENDAR