BEGIN:VCALENDAR
VERSION:2.0
PRODID:-//Colegio Instituto - ECPv6.15.12.2//NONSGML v1.0//EN
CALSCALE:GREGORIAN
METHOD:PUBLISH
X-WR-CALNAME:Colegio Instituto
X-ORIGINAL-URL:https://institutosanpedro.cl/inicio
X-WR-CALDESC:Eventos para Colegio Instituto
REFRESH-INTERVAL;VALUE=DURATION:PT1H
X-Robots-Tag:noindex
X-PUBLISHED-TTL:PT1H
BEGIN:VTIMEZONE
TZID:UTC
BEGIN:STANDARD
TZOFFSETFROM:+0000
TZOFFSETTO:+0000
TZNAME:UTC
DTSTART:20230101T000000
END:STANDARD
END:VTIMEZONE
BEGIN:VEVENT
DTSTART;VALUE=DATE:20240307
DTEND;VALUE=DATE:20240308
DTSTAMP:20260425T020833
CREATED:20240318T213107Z
LAST-MODIFIED:20240318T213107Z
UID:921-1709769600-1709855999@institutosanpedro.cl
SUMMARY:Reunión apoderados Educación Parvularia  y 1° básico
DESCRIPTION:
URL:https://institutosanpedro.cl/inicio/calendario/reunion-apoderados-educacion-parvularia-y-1-basico/
CATEGORIES:Calipso
END:VEVENT
BEGIN:VEVENT
DTSTART;VALUE=DATE:20240313
DTEND;VALUE=DATE:20240314
DTSTAMP:20260425T020833
CREATED:20240318T213731Z
LAST-MODIFIED:20240318T213731Z
UID:937-1710288000-1710374399@institutosanpedro.cl
SUMMARY:Día del ciberacoso
DESCRIPTION:
URL:https://institutosanpedro.cl/inicio/calendario/dia-del-ciberacoso/
CATEGORIES:Calipso
END:VEVENT
END:VCALENDAR