BEGIN:VCALENDAR
VERSION:2.0
PRODID:-//Colegio Instituto - ECPv6.15.12.2//NONSGML v1.0//EN
CALSCALE:GREGORIAN
METHOD:PUBLISH
X-WR-CALNAME:Colegio Instituto
X-ORIGINAL-URL:https://institutosanpedro.cl/inicio
X-WR-CALDESC:Eventos para Colegio Instituto
REFRESH-INTERVAL;VALUE=DURATION:PT1H
X-Robots-Tag:noindex
X-PUBLISHED-TTL:PT1H
BEGIN:VTIMEZONE
TZID:UTC
BEGIN:STANDARD
TZOFFSETFROM:+0000
TZOFFSETTO:+0000
TZNAME:UTC
DTSTART:20230101T000000
END:STANDARD
END:VTIMEZONE
BEGIN:VEVENT
DTSTART;VALUE=DATE:20240802
DTEND;VALUE=DATE:20240803
DTSTAMP:20260424T175552
CREATED:20240731T163505Z
LAST-MODIFIED:20240731T164054Z
UID:2281-1722556800-1722643199@institutosanpedro.cl
SUMMARY:Fútbol Femenino CISP vs Colegio Helen Keller
DESCRIPTION:
URL:https://institutosanpedro.cl/inicio/calendario/futbol-femenino-cisp-vs-colegio-helen-keller/
CATEGORIES:Calipso
END:VEVENT
BEGIN:VEVENT
DTSTART;VALUE=DATE:20240802
DTEND;VALUE=DATE:20240803
DTSTAMP:20260424T175552
CREATED:20240731T163547Z
LAST-MODIFIED:20240731T164123Z
UID:2284-1722556800-1722643199@institutosanpedro.cl
SUMMARY:Básquetbol Varones CISP vs Colegio San José
DESCRIPTION:
URL:https://institutosanpedro.cl/inicio/calendario/basquetbol-varones-cisp-vs-colegio-san-jose/
CATEGORIES:Calipso
END:VEVENT
BEGIN:VEVENT
DTSTART;VALUE=DATE:20240808
DTEND;VALUE=DATE:20240809
DTSTAMP:20260424T175552
CREATED:20240806T142717Z
LAST-MODIFIED:20240806T142953Z
UID:2693-1723075200-1723161599@institutosanpedro.cl
SUMMARY:Futsal Masculino: CISP vs Colegio Alemán
DESCRIPTION:
URL:https://institutosanpedro.cl/inicio/calendario/futsal-masculino-instituto-san-pedro-vs-colegio-aleman/
CATEGORIES:Calipso
END:VEVENT
BEGIN:VEVENT
DTSTART;VALUE=DATE:20240808
DTEND;VALUE=DATE:20240809
DTSTAMP:20260424T175552
CREATED:20240806T142838Z
LAST-MODIFIED:20240806T142919Z
UID:2695-1723075200-1723161599@institutosanpedro.cl
SUMMARY:Tenis de Mesa: CISP vs Colegio Aurora de Chile
DESCRIPTION:
URL:https://institutosanpedro.cl/inicio/calendario/tenis-de-mesa-instituto-san-pedro-vs-colegio-aurora-de-chile/
CATEGORIES:Calipso
END:VEVENT
BEGIN:VEVENT
DTSTART;VALUE=DATE:20240809
DTEND;VALUE=DATE:20240810
DTSTAMP:20260424T175552
CREATED:20240806T143332Z
LAST-MODIFIED:20240806T143349Z
UID:2699-1723161600-1723247999@institutosanpedro.cl
SUMMARY:Fútbol Femenino: CISP vs Helen Keller
DESCRIPTION:
URL:https://institutosanpedro.cl/inicio/calendario/futbol-femenino-colegio-vs-helen-keller/
CATEGORIES:Calipso
END:VEVENT
BEGIN:VEVENT
DTSTART;TZID=UTC:20240812T160000
DTEND;TZID=UTC:20240812T173000
DTSTAMP:20260424T175552
CREATED:20240812T141320Z
LAST-MODIFIED:20240812T141320Z
UID:2828-1723478400-1723483800@institutosanpedro.cl
SUMMARY:Encuentro Deportivo CISP v/s vs Liceo Comercial THNO
DESCRIPTION:
URL:https://institutosanpedro.cl/inicio/calendario/encuentro-deportivo-cisp-v-s-vs-liceo-comercial-thno/
CATEGORIES:Calipso
END:VEVENT
BEGIN:VEVENT
DTSTART;TZID=UTC:20240823T160000
DTEND;TZID=UTC:20240823T170000
DTSTAMP:20260424T175552
CREATED:20240819T153027Z
LAST-MODIFIED:20240819T153027Z
UID:3037-1724428800-1724432400@institutosanpedro.cl
SUMMARY:Selección Básquet CISP v/s Colegio San José
DESCRIPTION:
URL:https://institutosanpedro.cl/inicio/calendario/seleccion-basquet-cisp-v-s-colegio-san-jose/
CATEGORIES:Calipso
END:VEVENT
END:VCALENDAR