BEGIN:VCALENDAR
VERSION:2.0
PRODID:-//Colegio Instituto - ECPv6.15.12.2//NONSGML v1.0//EN
CALSCALE:GREGORIAN
METHOD:PUBLISH
X-WR-CALNAME:Colegio Instituto
X-ORIGINAL-URL:https://institutosanpedro.cl/inicio
X-WR-CALDESC:Eventos para Colegio Instituto
REFRESH-INTERVAL;VALUE=DURATION:PT1H
X-Robots-Tag:noindex
X-PUBLISHED-TTL:PT1H
BEGIN:VTIMEZONE
TZID:UTC
BEGIN:STANDARD
TZOFFSETFROM:+0000
TZOFFSETTO:+0000
TZNAME:UTC
DTSTART:20230101T000000
END:STANDARD
END:VTIMEZONE
BEGIN:VEVENT
DTSTART;TZID=UTC:20240812T160000
DTEND;TZID=UTC:20240812T173000
DTSTAMP:20260424T193530
CREATED:20240812T141320Z
LAST-MODIFIED:20240812T141320Z
UID:2828-1723478400-1723483800@institutosanpedro.cl
SUMMARY:Encuentro Deportivo CISP v/s vs Liceo Comercial THNO
DESCRIPTION:
URL:https://institutosanpedro.cl/inicio/calendario/encuentro-deportivo-cisp-v-s-vs-liceo-comercial-thno/
CATEGORIES:Calipso
END:VEVENT
END:VCALENDAR