BEGIN:VCALENDAR
VERSION:2.0
PRODID:-//Colegio Instituto - ECPv6.15.12.2//NONSGML v1.0//EN
CALSCALE:GREGORIAN
METHOD:PUBLISH
X-WR-CALNAME:Colegio Instituto
X-ORIGINAL-URL:https://institutosanpedro.cl/inicio
X-WR-CALDESC:Eventos para Colegio Instituto
REFRESH-INTERVAL;VALUE=DURATION:PT1H
X-Robots-Tag:noindex
X-PUBLISHED-TTL:PT1H
BEGIN:VTIMEZONE
TZID:UTC
BEGIN:STANDARD
TZOFFSETFROM:+0000
TZOFFSETTO:+0000
TZNAME:UTC
DTSTART:20230101T000000
END:STANDARD
END:VTIMEZONE
BEGIN:VEVENT
DTSTART;VALUE=DATE:20240501
DTEND;VALUE=DATE:20240502
DTSTAMP:20260423T124634
CREATED:20240318T201425Z
LAST-MODIFIED:20240318T201425Z
UID:853-1714521600-1714607999@institutosanpedro.cl
SUMMARY:Día del Trabajo
DESCRIPTION:
URL:https://institutosanpedro.cl/inicio/calendario/dia-del-trabajo/
CATEGORIES:Rojo FERIADOS
END:VEVENT
BEGIN:VEVENT
DTSTART;VALUE=DATE:20240512
DTEND;VALUE=DATE:20240513
DTSTAMP:20260423T124634
CREATED:20240318T201651Z
LAST-MODIFIED:20240318T201651Z
UID:857-1715472000-1715558399@institutosanpedro.cl
SUMMARY:Día de la Madre
DESCRIPTION:
URL:https://institutosanpedro.cl/inicio/calendario/dia-de-la-madre/
CATEGORIES:Rojo FERIADOS
END:VEVENT
BEGIN:VEVENT
DTSTART;VALUE=DATE:20240520
DTEND;VALUE=DATE:20240521
DTSTAMP:20260423T124634
CREATED:20240318T202040Z
LAST-MODIFIED:20240318T202040Z
UID:861-1716163200-1716249599@institutosanpedro.cl
SUMMARY:Interferiado
DESCRIPTION:
URL:https://institutosanpedro.cl/inicio/calendario/interferiado/
CATEGORIES:Rojo FERIADOS
END:VEVENT
BEGIN:VEVENT
DTSTART;VALUE=DATE:20240521
DTEND;VALUE=DATE:20240522
DTSTAMP:20260423T124634
CREATED:20240318T202216Z
LAST-MODIFIED:20240318T202216Z
UID:863-1716249600-1716335999@institutosanpedro.cl
SUMMARY:Glorias Navales
DESCRIPTION:
URL:https://institutosanpedro.cl/inicio/calendario/glorias-navales/
CATEGORIES:Rojo FERIADOS
END:VEVENT
END:VCALENDAR