BEGIN:VCALENDAR
VERSION:2.0
PRODID:-//Colegio Instituto - ECPv6.15.12.2//NONSGML v1.0//EN
CALSCALE:GREGORIAN
METHOD:PUBLISH
X-WR-CALNAME:Colegio Instituto
X-ORIGINAL-URL:https://institutosanpedro.cl/inicio
X-WR-CALDESC:Eventos para Colegio Instituto
REFRESH-INTERVAL;VALUE=DURATION:PT1H
X-Robots-Tag:noindex
X-PUBLISHED-TTL:PT1H
BEGIN:VTIMEZONE
TZID:UTC
BEGIN:STANDARD
TZOFFSETFROM:+0000
TZOFFSETTO:+0000
TZNAME:UTC
DTSTART:20230101T000000
END:STANDARD
END:VTIMEZONE
BEGIN:VEVENT
DTSTART;VALUE=DATE:20240330
DTEND;VALUE=DATE:20240331
DTSTAMP:20260423T175602
CREATED:20240318T194850Z
LAST-MODIFIED:20240318T194910Z
UID:832-1711756800-1711843199@institutosanpedro.cl
SUMMARY:Sábado Santo
DESCRIPTION:
URL:https://institutosanpedro.cl/inicio/calendario/sabado-santo/
CATEGORIES:Rojo FERIADOS
END:VEVENT
END:VCALENDAR