BEGIN:VCALENDAR
VERSION:2.0
PRODID:-//Colegio Instituto - ECPv6.15.12.2//NONSGML v1.0//EN
CALSCALE:GREGORIAN
METHOD:PUBLISH
X-WR-CALNAME:Colegio Instituto
X-ORIGINAL-URL:https://institutosanpedro.cl/inicio
X-WR-CALDESC:Eventos para Colegio Instituto
REFRESH-INTERVAL;VALUE=DURATION:PT1H
X-Robots-Tag:noindex
X-PUBLISHED-TTL:PT1H
BEGIN:VTIMEZONE
TZID:UTC
BEGIN:STANDARD
TZOFFSETFROM:+0000
TZOFFSETTO:+0000
TZNAME:UTC
DTSTART:20230101T000000
END:STANDARD
END:VTIMEZONE
BEGIN:VEVENT
DTSTART;TZID=UTC:20260319T190000
DTEND;TZID=UTC:20260319T203000
DTSTAMP:20260422T164756
CREATED:20260313T191337Z
LAST-MODIFIED:20260313T191744Z
UID:4910-1773946800-1773952200@institutosanpedro.cl
SUMMARY:Reunión Apoderados 7° básico a IV° medio
DESCRIPTION:
URL:https://institutosanpedro.cl/inicio/calendario/reunion-apoderados-7-basico-a-iv-medio-2/
CATEGORIES:Amarillo
END:VEVENT
BEGIN:VEVENT
DTSTART;TZID=UTC:20260318T100000
DTEND;TZID=UTC:20260318T110000
DTSTAMP:20260422T164756
CREATED:20260313T192302Z
LAST-MODIFIED:20260313T192302Z
UID:4913-1773828000-1773831600@institutosanpedro.cl
SUMMARY:Reunión constitución Consejo Escolar
DESCRIPTION:
URL:https://institutosanpedro.cl/inicio/calendario/reunion-constitucion-consejo-escolar/
END:VEVENT
BEGIN:VEVENT
DTSTART;TZID=UTC:20260317T190000
DTEND;TZID=UTC:20260317T203000
DTSTAMP:20260422T164756
CREATED:20260313T190036Z
LAST-MODIFIED:20260313T191801Z
UID:4908-1773774000-1773779400@institutosanpedro.cl
SUMMARY:Reunión Apoderados 2° a 6° básico
DESCRIPTION:
URL:https://institutosanpedro.cl/inicio/calendario/reunion-apoderados-2-a-6-basico/
CATEGORIES:Amarillo
END:VEVENT
BEGIN:VEVENT
DTSTART;VALUE=DATE:20251219
DTEND;VALUE=DATE:20251220
DTSTAMP:20260422T164756
CREATED:20250305T155017Z
LAST-MODIFIED:20250305T155032Z
UID:3949-1766102400-1766188799@institutosanpedro.cl
SUMMARY:Término de clases II semestre
DESCRIPTION:
URL:https://institutosanpedro.cl/inicio/calendario/termino-de-clases-ii-semestre/
CATEGORIES:Rojo FERIADOS
END:VEVENT
BEGIN:VEVENT
DTSTART;VALUE=DATE:20251114
DTEND;VALUE=DATE:20251115
DTSTAMP:20260422T164756
CREATED:20250305T154810Z
LAST-MODIFIED:20250305T154810Z
UID:3944-1763078400-1763164799@institutosanpedro.cl
SUMMARY:Elecciones Presidenciales (por confirmar)
DESCRIPTION:Se confirmará si el Colegio es sede de votación
URL:https://institutosanpedro.cl/inicio/calendario/elecciones-presidenciales-por-confirmar/
CATEGORIES:Rojo FERIADOS
END:VEVENT
BEGIN:VEVENT
DTSTART;VALUE=DATE:20251017
DTEND;VALUE=DATE:20251018
DTSTAMP:20260422T164756
CREATED:20250305T154919Z
LAST-MODIFIED:20250305T154919Z
UID:3946-1760659200-1760745599@institutosanpedro.cl
SUMMARY:Día del Educador
DESCRIPTION:(sin estudiantes)
URL:https://institutosanpedro.cl/inicio/calendario/dia-del-educador/
CATEGORIES:Rojo FERIADOS
END:VEVENT
BEGIN:VEVENT
DTSTART;VALUE=DATE:20250623
DTEND;VALUE=DATE:20250705
DTSTAMP:20260422T164756
CREATED:20250305T154124Z
LAST-MODIFIED:20250305T154124Z
UID:3942-1750636800-1751673599@institutosanpedro.cl
SUMMARY:Vacaciones de Invierno
DESCRIPTION:
URL:https://institutosanpedro.cl/inicio/calendario/vacaciones-de-invierno/
CATEGORIES:Rojo FERIADOS
END:VEVENT
BEGIN:VEVENT
DTSTART;TZID=UTC:20250607T090000
DTEND;TZID=UTC:20250607T093000
DTSTAMP:20260422T164756
CREATED:20250603T152756Z
LAST-MODIFIED:20250603T152838Z
UID:4310-1749286800-1749288600@institutosanpedro.cl
SUMMARY:Taller Karate CGP
DESCRIPTION:
URL:https://institutosanpedro.cl/inicio/calendario/taller-karate-cgp/
CATEGORIES:Celeste
END:VEVENT
BEGIN:VEVENT
DTSTART;TZID=UTC:20250606T150000
DTEND;TZID=UTC:20250606T153000
DTSTAMP:20260422T164756
CREATED:20250603T152711Z
LAST-MODIFIED:20250603T152711Z
UID:4307-1749222000-1749223800@institutosanpedro.cl
SUMMARY:Salida Educativa ACLE Basquétball Varones Colegio San José
DESCRIPTION:
URL:https://institutosanpedro.cl/inicio/calendario/salida-educativa-acle-basquetball-varones-colegio-san-jose/
CATEGORIES:Celeste
END:VEVENT
BEGIN:VEVENT
DTSTART;TZID=UTC:20250606T130000
DTEND;TZID=UTC:20250606T130000
DTSTAMP:20260422T164756
CREATED:20250603T152627Z
LAST-MODIFIED:20250603T152627Z
UID:4304-1749214800-1749214800@institutosanpedro.cl
SUMMARY:Salida Educativa ACLE Volleyball Varones Instituto Humanidades Chiguayante
DESCRIPTION:
URL:https://institutosanpedro.cl/inicio/calendario/salida-educativa-acle-volleyball-varones-instituto-humanidades-chiguayante/
CATEGORIES:Celeste
END:VEVENT
BEGIN:VEVENT
DTSTART;TZID=UTC:20250604T110000
DTEND;TZID=UTC:20250604T233000
DTSTAMP:20260422T164756
CREATED:20250603T152505Z
LAST-MODIFIED:20250603T152505Z
UID:4302-1749034800-1749079800@institutosanpedro.cl
SUMMARY:Recreo Seguro: Carabineros de Chile
DESCRIPTION:
URL:https://institutosanpedro.cl/inicio/calendario/recreo-seguro-carabineros-de-chile/
CATEGORIES:Purpura
END:VEVENT
BEGIN:VEVENT
DTSTART;TZID=UTC:20250604T090000
DTEND;TZID=UTC:20250604T103000
DTSTAMP:20260422T164756
CREATED:20250603T152431Z
LAST-MODIFIED:20250603T152431Z
UID:4299-1749027600-1749033000@institutosanpedro.cl
SUMMARY:Taller para padres “Cultivando calma\, construyendo  aprendizajes”
DESCRIPTION:
URL:https://institutosanpedro.cl/inicio/calendario/taller-para-padres-cultivando-calma-construyendo-aprendizajes-2/
CATEGORIES:Verde Fluor
END:VEVENT
BEGIN:VEVENT
DTSTART;TZID=UTC:20250603T190000
DTEND;TZID=UTC:20250603T193000
DTSTAMP:20260422T164756
CREATED:20250603T152013Z
LAST-MODIFIED:20250603T152013Z
UID:4297-1748977200-1748979000@institutosanpedro.cl
SUMMARY:Reuniones apoderados KA
DESCRIPTION:
URL:https://institutosanpedro.cl/inicio/calendario/reuniones-apoderados-ka/
CATEGORIES:Verde Fluor
END:VEVENT
BEGIN:VEVENT
DTSTART;TZID=UTC:20250603T173000
DTEND;TZID=UTC:20250603T190000
DTSTAMP:20260422T164756
CREATED:20250603T151935Z
LAST-MODIFIED:20250603T152259Z
UID:4295-1748971800-1748977200@institutosanpedro.cl
SUMMARY:Taller para padres “Cultivando Calma\, Construyendo Aprendizajes”
DESCRIPTION:
URL:https://institutosanpedro.cl/inicio/calendario/taller-para-padres-cultivando-calma-construyendo-aprendizajes/
CATEGORIES:Verde Fluor
END:VEVENT
BEGIN:VEVENT
DTSTART;TZID=UTC:20250603T100000
DTEND;TZID=UTC:20250603T103000
DTSTAMP:20260422T164756
CREATED:20250603T151833Z
LAST-MODIFIED:20250603T151833Z
UID:4293-1748944800-1748946600@institutosanpedro.cl
SUMMARY:I Medios Charla Responsabilidad Penal
DESCRIPTION:
URL:https://institutosanpedro.cl/inicio/calendario/i-medios-charla-responsabilidad-penal/
CATEGORIES:Purpura
END:VEVENT
BEGIN:VEVENT
DTSTART;TZID=UTC:20250603T083000
DTEND;TZID=UTC:20250603T090000
DTSTAMP:20260422T164756
CREATED:20250603T151707Z
LAST-MODIFIED:20250603T151707Z
UID:4291-1748939400-1748941200@institutosanpedro.cl
SUMMARY:III Medios Charla Responsabilidad Penal
DESCRIPTION:
URL:https://institutosanpedro.cl/inicio/calendario/iii-medios-charla-responsabilidad-penal/
CATEGORIES:Purpura
END:VEVENT
BEGIN:VEVENT
DTSTART;VALUE=DATE:20250502
DTEND;VALUE=DATE:20250503
DTSTAMP:20260422T164756
CREATED:20250305T154004Z
LAST-MODIFIED:20250305T154004Z
UID:3940-1746144000-1746230399@institutosanpedro.cl
SUMMARY:Interferiado (no hay clases)
DESCRIPTION:(no hay clases)
URL:https://institutosanpedro.cl/inicio/calendario/interferiado-no-hay-clases/
CATEGORIES:Rojo FERIADOS
END:VEVENT
BEGIN:VEVENT
DTSTART;TZID=UTC:20250320T190000
DTEND;TZID=UTC:20250320T200000
DTSTAMP:20260422T164756
CREATED:20250305T153524Z
LAST-MODIFIED:20250305T153550Z
UID:3938-1742497200-1742500800@institutosanpedro.cl
SUMMARY:Reunión de Apoderados desde 7° hasta IV Medio
DESCRIPTION:desde 7° hasta IV Medio \n19:00 hrs \n 
URL:https://institutosanpedro.cl/inicio/calendario/reunion-de-apoderados-desde-7-hasta-iv-medio/
CATEGORIES:Purpura
END:VEVENT
BEGIN:VEVENT
DTSTART;TZID=UTC:20250318T190000
DTEND;TZID=UTC:20250318T200000
DTSTAMP:20260422T164756
CREATED:20250305T152757Z
LAST-MODIFIED:20250305T152950Z
UID:3932-1742324400-1742328000@institutosanpedro.cl
SUMMARY:Reunión de Apoderados desde 2° hasta 6° Básico
DESCRIPTION:2° a 6° Básico \n19:00 hrs
URL:https://institutosanpedro.cl/inicio/calendario/reunion-de-apoderados-2-a-6basico/
CATEGORIES:Purpura
END:VEVENT
BEGIN:VEVENT
DTSTART;TZID=UTC:20250311T190000
DTEND;TZID=UTC:20250311T200000
DTSTAMP:20260422T164756
CREATED:20250305T152414Z
LAST-MODIFIED:20250305T152910Z
UID:3926-1741719600-1741723200@institutosanpedro.cl
SUMMARY:Reunion de Apoderados desde Pre-Kinder hasta 1° Básico
DESCRIPTION:Pre-Kinder a 1° Básico \n19:00 horas
URL:https://institutosanpedro.cl/inicio/calendario/pre-kinder-a-1-basico/
CATEGORIES:Purpura
END:VEVENT
BEGIN:VEVENT
DTSTART;TZID=UTC:20241129T150000
DTEND;TZID=UTC:20241129T170000
DTSTAMP:20260422T164756
CREATED:20241125T200444Z
LAST-MODIFIED:20241125T200533Z
UID:3637-1732892400-1732899600@institutosanpedro.cl
SUMMARY:Ceremonia Finalización Talleres Extraescolares
DESCRIPTION:
URL:https://institutosanpedro.cl/inicio/calendario/ceremonia-finalizacion-talleres-extraescolares/
CATEGORIES:Purpura
END:VEVENT
BEGIN:VEVENT
DTSTART;TZID=UTC:20241128T190000
DTEND;TZID=UTC:20241128T200000
DTSTAMP:20260422T164756
CREATED:20241125T200145Z
LAST-MODIFIED:20241125T200145Z
UID:3635-1732820400-1732824000@institutosanpedro.cl
SUMMARY:Reunión de Apoderados 2° Básico – 7° a III° Medio
DESCRIPTION:
URL:https://institutosanpedro.cl/inicio/calendario/reunion-de-apoderados-2-basico-7-a-iii-medio/
CATEGORIES:Verde Fluor
END:VEVENT
BEGIN:VEVENT
DTSTART;TZID=UTC:20241127T153000
DTEND;TZID=UTC:20241127T163000
DTSTAMP:20260422T164756
CREATED:20241125T200037Z
LAST-MODIFIED:20241125T200050Z
UID:3632-1732721400-1732725000@institutosanpedro.cl
SUMMARY:Capacitación Primeros Auxilios Psicológicos Mutual de Seguridad
DESCRIPTION:Reunión por Nivel I° a III° Medio
URL:https://institutosanpedro.cl/inicio/calendario/capacitacion-primeros-auxilios-psicologicos-mutual-de-seguridad/
CATEGORIES:Celeste
END:VEVENT
BEGIN:VEVENT
DTSTART;TZID=UTC:20241126T190000
DTEND;TZID=UTC:20241126T200000
DTSTAMP:20260422T164756
CREATED:20241125T195819Z
LAST-MODIFIED:20241125T195819Z
UID:3628-1732647600-1732651200@institutosanpedro.cl
SUMMARY:Reunión de Apoderados PK a 1° Básico y 3° a 6° Básico
DESCRIPTION:
URL:https://institutosanpedro.cl/inicio/calendario/reunion-de-apoderados-pk-a-1-basico-y-3-a-6-basico/
CATEGORIES:Verde Fluor
END:VEVENT
BEGIN:VEVENT
DTSTART;TZID=UTC:20241126T113000
DTEND;TZID=UTC:20241126T123000
DTSTAMP:20260422T164756
CREATED:20241125T195633Z
LAST-MODIFIED:20241125T195633Z
UID:3626-1732620600-1732624200@institutosanpedro.cl
SUMMARY:Taller para Estudiantes 8°A Fonoaudióloga
DESCRIPTION:
URL:https://institutosanpedro.cl/inicio/calendario/taller-para-estudiantes-8a-fonoaudiologa/
CATEGORIES:Purpura
END:VEVENT
BEGIN:VEVENT
DTSTART;TZID=UTC:20241126T110000
DTEND;TZID=UTC:20241126T123000
DTSTAMP:20260422T164756
CREATED:20241125T195907Z
LAST-MODIFIED:20241125T195907Z
UID:3630-1732618800-1732624200@institutosanpedro.cl
SUMMARY:Charla “Habilidades para la Lectoescritura”
DESCRIPTION:Biblioteca
URL:https://institutosanpedro.cl/inicio/calendario/charla-habilidades-para-la-lectoescritura/
CATEGORIES:Purpura
END:VEVENT
BEGIN:VEVENT
DTSTART;TZID=UTC:20241115T080000
DTEND;TZID=UTC:20241115T120000
DTSTAMP:20260422T164756
CREATED:20241108T204133Z
LAST-MODIFIED:20241108T204133Z
UID:3567-1731657600-1731672000@institutosanpedro.cl
SUMMARY:Ensayo PAES SM III° Medio
DESCRIPTION:
URL:https://institutosanpedro.cl/inicio/calendario/ensayo-paes-sm-iii-medio/
CATEGORIES:Purpura
END:VEVENT
BEGIN:VEVENT
DTSTART;TZID=UTC:20241114T160000
DTEND;TZID=UTC:20241114T190000
DTSTAMP:20260422T164756
CREATED:20241108T204028Z
LAST-MODIFIED:20241108T204028Z
UID:3565-1731600000-1731610800@institutosanpedro.cl
SUMMARY:Licenciatura IV° Medios
DESCRIPTION:
URL:https://institutosanpedro.cl/inicio/calendario/licenciatura-iv-medios/
CATEGORIES:Verde Fluor
END:VEVENT
BEGIN:VEVENT
DTSTART;TZID=UTC:20241114T080000
DTEND;TZID=UTC:20241114T120000
DTSTAMP:20260422T164756
CREATED:20241108T204215Z
LAST-MODIFIED:20241108T204215Z
UID:3569-1731571200-1731585600@institutosanpedro.cl
SUMMARY:Ensayo PAES SM III° Medio
DESCRIPTION:
URL:https://institutosanpedro.cl/inicio/calendario/ensayo-paes-sm-iii-medio-2/
CATEGORIES:Purpura
END:VEVENT
BEGIN:VEVENT
DTSTART;TZID=UTC:20241114T080000
DTEND;TZID=UTC:20241114T120000
DTSTAMP:20260422T164756
CREATED:20241108T203947Z
LAST-MODIFIED:20241108T203947Z
UID:3563-1731571200-1731585600@institutosanpedro.cl
SUMMARY:SIMCE Lengua y Literatura II° Medios
DESCRIPTION:
URL:https://institutosanpedro.cl/inicio/calendario/simce-lengua-y-literatura-ii-medios/
CATEGORIES:Purpura
END:VEVENT
END:VCALENDAR