BEGIN:VCALENDAR
VERSION:2.0
PRODID:-//Colegio Instituto - ECPv6.15.12.2//NONSGML v1.0//EN
CALSCALE:GREGORIAN
METHOD:PUBLISH
X-WR-CALNAME:Colegio Instituto
X-ORIGINAL-URL:https://institutosanpedro.cl/inicio
X-WR-CALDESC:Eventos para Colegio Instituto
REFRESH-INTERVAL;VALUE=DURATION:PT1H
X-Robots-Tag:noindex
X-PUBLISHED-TTL:PT1H
BEGIN:VTIMEZONE
TZID:UTC
BEGIN:STANDARD
TZOFFSETFROM:+0000
TZOFFSETTO:+0000
TZNAME:UTC
DTSTART:20230101T000000
END:STANDARD
END:VTIMEZONE
BEGIN:VEVENT
DTSTART;VALUE=DATE:20240605
DTEND;VALUE=DATE:20240606
DTSTAMP:20260426T031320
CREATED:20240318T203756Z
LAST-MODIFIED:20240318T204943Z
UID:875-1717545600-1717631999@institutosanpedro.cl
SUMMARY:Día Mundial del Medio Ambiente
DESCRIPTION:
URL:https://institutosanpedro.cl/inicio/calendario/dia-mundial-del-medio-ambiente/
CATEGORIES:Burdeo
END:VEVENT
BEGIN:VEVENT
DTSTART;VALUE=DATE:20240605
DTEND;VALUE=DATE:20240606
DTSTAMP:20260426T031320
CREATED:20240318T203323Z
LAST-MODIFIED:20240318T203323Z
UID:873-1717545600-1717631999@institutosanpedro.cl
SUMMARY:2° Consejo Escolar
DESCRIPTION:
URL:https://institutosanpedro.cl/inicio/calendario/2-consejo-escolar/
CATEGORIES:Amarillo
END:VEVENT
BEGIN:VEVENT
DTSTART;VALUE=DATE:20240610
DTEND;VALUE=DATE:20240611
DTSTAMP:20260426T031320
CREATED:20240318T205032Z
LAST-MODIFIED:20240318T205032Z
UID:877-1717977600-1718063999@institutosanpedro.cl
SUMMARY:Cierre procesos evaluativos I semestre
DESCRIPTION:
URL:https://institutosanpedro.cl/inicio/calendario/cierre-procesos-evaluativos-i-semestre/
CATEGORIES:Calipso
END:VEVENT
BEGIN:VEVENT
DTSTART;VALUE=DATE:20240610
DTEND;VALUE=DATE:20240611
DTSTAMP:20260426T031320
CREATED:20240612T192522Z
LAST-MODIFIED:20240612T192522Z
UID:1787-1717977600-1718063999@institutosanpedro.cl
SUMMARY:Olimpiadas de Matemáticas UBB
DESCRIPTION:
URL:https://institutosanpedro.cl/inicio/calendario/olimpiadas-de-matematicas-ubb/
CATEGORIES:Naranjo
END:VEVENT
BEGIN:VEVENT
DTSTART;VALUE=DATE:20240613
DTEND;VALUE=DATE:20240614
DTSTAMP:20260426T031320
CREATED:20240318T205137Z
LAST-MODIFIED:20240318T205137Z
UID:879-1718236800-1718323199@institutosanpedro.cl
SUMMARY:Ensayo PAES III-IV medio
DESCRIPTION:
URL:https://institutosanpedro.cl/inicio/calendario/ensayo-paes-iii-iv-medio-3/
CATEGORIES:Celeste
END:VEVENT
BEGIN:VEVENT
DTSTART;VALUE=DATE:20240614
DTEND;VALUE=DATE:20240615
DTSTAMP:20260426T031320
CREATED:20240318T205239Z
LAST-MODIFIED:20240318T205239Z
UID:881-1718323200-1718409599@institutosanpedro.cl
SUMMARY:Ensayo PAES III-IV medio
DESCRIPTION:
URL:https://institutosanpedro.cl/inicio/calendario/ensayo-paes-iii-iv-medio-4/
CATEGORIES:Celeste
END:VEVENT
BEGIN:VEVENT
DTSTART;VALUE=DATE:20240618
DTEND;VALUE=DATE:20240619
DTSTAMP:20260426T031320
CREATED:20240318T205321Z
LAST-MODIFIED:20240318T205321Z
UID:883-1718668800-1718755199@institutosanpedro.cl
SUMMARY:Término clases I semestre
DESCRIPTION:
URL:https://institutosanpedro.cl/inicio/calendario/termino-clases-i-semestre/
CATEGORIES:Fucsia
END:VEVENT
BEGIN:VEVENT
DTSTART;VALUE=DATE:20240619
DTEND;VALUE=DATE:20240620
DTSTAMP:20260426T031320
CREATED:20240318T205409Z
LAST-MODIFIED:20240318T205409Z
UID:885-1718755200-1718841599@institutosanpedro.cl
SUMMARY:Consejo Evaluación Semestral Ciclo Menor
DESCRIPTION:
URL:https://institutosanpedro.cl/inicio/calendario/consejo-evaluacion-semestral-ciclo-menor/
CATEGORIES:Naranjo
END:VEVENT
BEGIN:VEVENT
DTSTART;VALUE=DATE:20240620
DTEND;VALUE=DATE:20240621
DTSTAMP:20260426T031320
CREATED:20240318T205506Z
LAST-MODIFIED:20240318T205506Z
UID:887-1718841600-1718927999@institutosanpedro.cl
SUMMARY:Consejo Evaluación Semestral Ciclo Mayor
DESCRIPTION:
URL:https://institutosanpedro.cl/inicio/calendario/consejo-evaluacion-semestral-ciclo-mayor/
CATEGORIES:Purpura
END:VEVENT
BEGIN:VEVENT
DTSTART;VALUE=DATE:20240621
DTEND;VALUE=DATE:20240622
DTSTAMP:20260426T031320
CREATED:20240318T205547Z
LAST-MODIFIED:20240318T205547Z
UID:889-1718928000-1719014399@institutosanpedro.cl
SUMMARY:Jornada Planificación
DESCRIPTION:
URL:https://institutosanpedro.cl/inicio/calendario/jornada-planificacion/
CATEGORIES:Verde Fluor
END:VEVENT
BEGIN:VEVENT
DTSTART;TZID=UTC:20240624T080000
DTEND;TZID=UTC:20240705T170000
DTSTAMP:20260426T031320
CREATED:20240318T210155Z
LAST-MODIFIED:20240318T210227Z
UID:891-1719216000-1720198800@institutosanpedro.cl
SUMMARY:Vacaciones Invierno
DESCRIPTION:
URL:https://institutosanpedro.cl/inicio/calendario/inicio-vacaciones-invierno/
CATEGORIES:Azul Vacaciones
END:VEVENT
END:VCALENDAR