BEGIN:VCALENDAR
VERSION:2.0
PRODID:-//Colegio Instituto - ECPv6.15.12.2//NONSGML v1.0//EN
CALSCALE:GREGORIAN
METHOD:PUBLISH
X-WR-CALNAME:Colegio Instituto
X-ORIGINAL-URL:https://institutosanpedro.cl/inicio
X-WR-CALDESC:Eventos para Colegio Instituto
REFRESH-INTERVAL;VALUE=DURATION:PT1H
X-Robots-Tag:noindex
X-PUBLISHED-TTL:PT1H
BEGIN:VTIMEZONE
TZID:UTC
BEGIN:STANDARD
TZOFFSETFROM:+0000
TZOFFSETTO:+0000
TZNAME:UTC
DTSTART:20230101T000000
END:STANDARD
END:VTIMEZONE
BEGIN:VEVENT
DTSTART;TZID=UTC:20240624T080000
DTEND;TZID=UTC:20240705T170000
DTSTAMP:20260426T013923
CREATED:20240318T210155Z
LAST-MODIFIED:20240318T210227Z
UID:891-1719216000-1720198800@institutosanpedro.cl
SUMMARY:Vacaciones Invierno
DESCRIPTION:
URL:https://institutosanpedro.cl/inicio/calendario/inicio-vacaciones-invierno/
CATEGORIES:Azul Vacaciones
END:VEVENT
BEGIN:VEVENT
DTSTART;VALUE=DATE:20240708
DTEND;VALUE=DATE:20240709
DTSTAMP:20260426T013923
CREATED:20240318T210335Z
LAST-MODIFIED:20240318T210335Z
UID:894-1720396800-1720483199@institutosanpedro.cl
SUMMARY:Inicio clases II semestre
DESCRIPTION:
URL:https://institutosanpedro.cl/inicio/calendario/inicio-clases-ii-semestre/
CATEGORIES:Amarillo
END:VEVENT
BEGIN:VEVENT
DTSTART;VALUE=DATE:20240715
DTEND;VALUE=DATE:20240716
DTSTAMP:20260426T013923
CREATED:20240318T211658Z
LAST-MODIFIED:20240318T211658Z
UID:896-1721001600-1721087999@institutosanpedro.cl
SUMMARY:Interferiado
DESCRIPTION:
URL:https://institutosanpedro.cl/inicio/calendario/interferiado-2/
CATEGORIES:Rojo FERIADOS
END:VEVENT
BEGIN:VEVENT
DTSTART;VALUE=DATE:20240716
DTEND;VALUE=DATE:20240717
DTSTAMP:20260426T013923
CREATED:20240318T211748Z
LAST-MODIFIED:20240318T211748Z
UID:898-1721088000-1721174399@institutosanpedro.cl
SUMMARY:Virgen del Carmen
DESCRIPTION:
URL:https://institutosanpedro.cl/inicio/calendario/virgen-del-carmen/
CATEGORIES:Rojo FERIADOS
END:VEVENT
BEGIN:VEVENT
DTSTART;VALUE=DATE:20240719
DTEND;VALUE=DATE:20240720
DTSTAMP:20260426T013923
CREATED:20240318T212139Z
LAST-MODIFIED:20240723T142052Z
UID:900-1721347200-1721433599@institutosanpedro.cl
SUMMARY:Feria Vocacional Educación Superior
DESCRIPTION:
URL:https://institutosanpedro.cl/inicio/calendario/feria-vocacional-educacion-superior/
CATEGORIES:Naranjo
END:VEVENT
BEGIN:VEVENT
DTSTART;VALUE=DATE:20240722
DTEND;VALUE=DATE:20240723
DTSTAMP:20260426T013923
CREATED:20240723T141833Z
LAST-MODIFIED:20240806T133430Z
UID:1879-1721606400-1721692799@institutosanpedro.cl
SUMMARY:Firma Convenio Colaboración COALI
DESCRIPTION:
URL:https://institutosanpedro.cl/inicio/calendario/firma-convenio-colaboracion-coali/
CATEGORIES:Naranjo
END:VEVENT
BEGIN:VEVENT
DTSTART;TZID=UTC:20240723T190000
DTEND;TZID=UTC:20240723T200000
DTSTAMP:20260426T013923
CREATED:20240318T212220Z
LAST-MODIFIED:20240723T143403Z
UID:902-1721761200-1721764800@institutosanpedro.cl
SUMMARY:Reunión Apoderados PK a 6° básico
DESCRIPTION:
URL:https://institutosanpedro.cl/inicio/calendario/reunion-apoderados-pk-a-4-basico-2/
CATEGORIES:Verde Fluor
END:VEVENT
BEGIN:VEVENT
DTSTART;VALUE=DATE:20240724
DTEND;VALUE=DATE:20240725
DTSTAMP:20260426T013923
CREATED:20240723T142356Z
LAST-MODIFIED:20240723T142356Z
UID:1882-1721779200-1721865599@institutosanpedro.cl
SUMMARY:Área Vocacional: Casa abierta USS
DESCRIPTION:
URL:https://institutosanpedro.cl/inicio/calendario/area-vocacional-casa-abierta-uss/
CATEGORIES:Naranjo
END:VEVENT
BEGIN:VEVENT
DTSTART;VALUE=DATE:20240724
DTEND;VALUE=DATE:20240725
DTSTAMP:20260426T013923
CREATED:20240723T142518Z
LAST-MODIFIED:20240723T142554Z
UID:1884-1721779200-1721865599@institutosanpedro.cl
SUMMARY:Fútbol CISP v/s La Providencia
DESCRIPTION:
URL:https://institutosanpedro.cl/inicio/calendario/futbol-cisp-v-s-la-providencia/
CATEGORIES:Calipso
END:VEVENT
BEGIN:VEVENT
DTSTART;VALUE=DATE:20240725
DTEND;VALUE=DATE:20240726
DTSTAMP:20260426T013923
CREATED:20240723T143627Z
LAST-MODIFIED:20240723T143627Z
UID:1889-1721865600-1721951999@institutosanpedro.cl
SUMMARY:Área Vocacional: Casa abierta USS
DESCRIPTION:
URL:https://institutosanpedro.cl/inicio/calendario/area-vocacional-casa-abierta-uss-2/
CATEGORIES:Naranjo
END:VEVENT
BEGIN:VEVENT
DTSTART;TZID=UTC:20240725T180000
DTEND;TZID=UTC:20240725T190000
DTSTAMP:20260426T013923
CREATED:20240318T212337Z
LAST-MODIFIED:20240723T143244Z
UID:906-1721930400-1721934000@institutosanpedro.cl
SUMMARY:Reunión Apoderados 7° a IV medio (taller SENDA)
DESCRIPTION:
URL:https://institutosanpedro.cl/inicio/calendario/reunion-apoderados-i-a-iv-medio-2/
CATEGORIES:Verde Fluor
END:VEVENT
BEGIN:VEVENT
DTSTART;VALUE=DATE:20240726
DTEND;VALUE=DATE:20240727
DTSTAMP:20260426T013923
CREATED:20240723T143737Z
LAST-MODIFIED:20240723T143753Z
UID:1891-1721952000-1722038399@institutosanpedro.cl
SUMMARY:Área Vocacional: Casa abierta USS
DESCRIPTION:
URL:https://institutosanpedro.cl/inicio/calendario/area-vocacional-casa-abierta-uss-3/
CATEGORIES:Naranjo
END:VEVENT
END:VCALENDAR