BEGIN:VCALENDAR
VERSION:2.0
PRODID:-//Colegio Instituto - ECPv6.15.12.2//NONSGML v1.0//EN
CALSCALE:GREGORIAN
METHOD:PUBLISH
X-WR-CALNAME:Colegio Instituto
X-ORIGINAL-URL:https://institutosanpedro.cl/inicio
X-WR-CALDESC:Eventos para Colegio Instituto
REFRESH-INTERVAL;VALUE=DURATION:PT1H
X-Robots-Tag:noindex
X-PUBLISHED-TTL:PT1H
BEGIN:VTIMEZONE
TZID:UTC
BEGIN:STANDARD
TZOFFSETFROM:+0000
TZOFFSETTO:+0000
TZNAME:UTC
DTSTART:20230101T000000
END:STANDARD
END:VTIMEZONE
BEGIN:VEVENT
DTSTART;VALUE=DATE:20240902
DTEND;VALUE=DATE:20240903
DTSTAMP:20260425T221314
CREATED:20240823T213329Z
LAST-MODIFIED:20240823T213329Z
UID:3092-1725235200-1725321599@institutosanpedro.cl
SUMMARY:Olimpíadas de las Ciencias
DESCRIPTION:8° Básicos (8:00 – 8:45)\n2° Medios (8:45 – 9:30)\n3° Medios (9:45 – 10:30)\n4° Medios (10:30 – 11:15)\n1° Medios (11:30 -12:15)\n7° Básicos (12:15-13:00) \nLugar: Gimnasio del colegio
URL:https://institutosanpedro.cl/inicio/calendario/olimpiadas-de-las-ciencias/
CATEGORIES:Purpura
END:VEVENT
BEGIN:VEVENT
DTSTART;TZID=UTC:20240902T160000
DTEND;TZID=UTC:20240902T180000
DTSTAMP:20260425T221314
CREATED:20240823T213557Z
LAST-MODIFIED:20240823T213557Z
UID:3094-1725292800-1725300000@institutosanpedro.cl
SUMMARY:Trivias Interactivas Ciclo Menor
DESCRIPTION:Kínder B y Prekínder B \nLugar: Salas de Curso
URL:https://institutosanpedro.cl/inicio/calendario/trivias-interactivas-ciclo-menor-2/
CATEGORIES:Purpura
END:VEVENT
BEGIN:VEVENT
DTSTART;TZID=UTC:20240909T080000
DTEND;TZID=UTC:20240909T103000
DTSTAMP:20260425T221314
CREATED:20240909T133727Z
LAST-MODIFIED:20240909T133727Z
UID:3129-1725868800-1725877800@institutosanpedro.cl
SUMMARY:Ensayo PAES-UTFSM Lenguaje 4tos Medios
DESCRIPTION:
URL:https://institutosanpedro.cl/inicio/calendario/ensayo-paes-utfsm-lenguaje-4tos-medios/
CATEGORIES:Verde Fluor
END:VEVENT
BEGIN:VEVENT
DTSTART;TZID=UTC:20240909T100000
DTEND;TZID=UTC:20240909T103000
DTSTAMP:20260425T221314
CREATED:20240909T133832Z
LAST-MODIFIED:20240909T133904Z
UID:3131-1725876000-1725877800@institutosanpedro.cl
SUMMARY:Ensayo General Pre Kinder a 8vo Básico
DESCRIPTION:
URL:https://institutosanpedro.cl/inicio/calendario/ensayo-general-pre-kinder-a-8vo-basico/
CATEGORIES:Verde Fluor
END:VEVENT
BEGIN:VEVENT
DTSTART;TZID=UTC:20240909T103000
DTEND;TZID=UTC:20240909T111500
DTSTAMP:20260425T221314
CREATED:20240909T134030Z
LAST-MODIFIED:20240909T134030Z
UID:3134-1725877800-1725880500@institutosanpedro.cl
SUMMARY:Ensayo General Gala Folclórica I a IV medio
DESCRIPTION:
URL:https://institutosanpedro.cl/inicio/calendario/ensayo-general-gala-folclorica-i-a-iv-medio/
CATEGORIES:Naranjo
END:VEVENT
BEGIN:VEVENT
DTSTART;TZID=UTC:20240909T160000
DTEND;TZID=UTC:20240909T180000
DTSTAMP:20260425T221314
CREATED:20240909T134138Z
LAST-MODIFIED:20240909T134138Z
UID:3136-1725897600-1725904800@institutosanpedro.cl
SUMMARY:Ensayo General Gala Folclórica Pre Kinder a 4to Básico.
DESCRIPTION:
URL:https://institutosanpedro.cl/inicio/calendario/ensayo-general-gala-folclorica-pre-kinder-a-4to-basico/
CATEGORIES:Naranjo
END:VEVENT
BEGIN:VEVENT
DTSTART;TZID=UTC:20240910T090000
DTEND;TZID=UTC:20240910T133000
DTSTAMP:20260425T221314
CREATED:20240909T134343Z
LAST-MODIFIED:20240909T134343Z
UID:3140-1725958800-1725975000@institutosanpedro.cl
SUMMARY:Seminario TECH WISE-UNAB
DESCRIPTION:
URL:https://institutosanpedro.cl/inicio/calendario/seminario-tech-wise-unab/
CATEGORIES:Purpura
END:VEVENT
BEGIN:VEVENT
DTSTART;TZID=UTC:20240910T141500
DTEND;TZID=UTC:20240910T153000
DTSTAMP:20260425T221314
CREATED:20240909T134910Z
LAST-MODIFIED:20240909T135013Z
UID:3142-1725977700-1725982200@institutosanpedro.cl
SUMMARY:Academia de Liderazgo
DESCRIPTION:
URL:https://institutosanpedro.cl/inicio/calendario/academia-de-liderazgo/
CATEGORIES:Naranjo
END:VEVENT
BEGIN:VEVENT
DTSTART;TZID=UTC:20240910T144500
DTEND;TZID=UTC:20240910T180000
DTSTAMP:20260425T221314
CREATED:20240909T134254Z
LAST-MODIFIED:20240909T135214Z
UID:3138-1725979500-1725991200@institutosanpedro.cl
SUMMARY:2° Básicos Muestra Gastronómica Pueblos Originarios
DESCRIPTION:
URL:https://institutosanpedro.cl/inicio/calendario/2-basicos-muestra-gastronomica-pueblos-originarios/
CATEGORIES:Verde Fluor
END:VEVENT
BEGIN:VEVENT
DTSTART;TZID=UTC:20240911T150000
DTEND;TZID=UTC:20240911T170000
DTSTAMP:20260425T221314
CREATED:20240909T135141Z
LAST-MODIFIED:20240909T135342Z
UID:3144-1726066800-1726074000@institutosanpedro.cl
SUMMARY:Presentación Danza Folclórica
DESCRIPTION:
URL:https://institutosanpedro.cl/inicio/calendario/presentacion-danza-folclorica/
CATEGORIES:Verde Fluor
END:VEVENT
BEGIN:VEVENT
DTSTART;TZID=UTC:20240912T090000
DTEND;TZID=UTC:20240912T130000
DTSTAMP:20260425T221314
CREATED:20240909T135450Z
LAST-MODIFIED:20240909T135450Z
UID:3147-1726131600-1726146000@institutosanpedro.cl
SUMMARY:Presentación Danza Folclórica
DESCRIPTION:
URL:https://institutosanpedro.cl/inicio/calendario/presentacion-danza-folclorica-2/
CATEGORIES:Verde Fluor
END:VEVENT
BEGIN:VEVENT
DTSTART;TZID=UTC:20240912T143000
DTEND;TZID=UTC:20240912T173000
DTSTAMP:20260425T221314
CREATED:20240909T135737Z
LAST-MODIFIED:20240909T135737Z
UID:3149-1726151400-1726162200@institutosanpedro.cl
SUMMARY:Inauguración Stand Fiestas Patrias
DESCRIPTION:
URL:https://institutosanpedro.cl/inicio/calendario/inauguracion-stand-fiestas-patrias/
CATEGORIES:Naranjo
END:VEVENT
BEGIN:VEVENT
DTSTART;TZID=UTC:20240913T083000
DTEND;TZID=UTC:20240913T123000
DTSTAMP:20260425T221314
CREATED:20240909T135928Z
LAST-MODIFIED:20240909T135928Z
UID:3151-1726216200-1726230600@institutosanpedro.cl
SUMMARY:Inauguración Stand Fiestas Patrias
DESCRIPTION:
URL:https://institutosanpedro.cl/inicio/calendario/inauguracion-stand-fiestas-patrias-2/
CATEGORIES:Naranjo
END:VEVENT
BEGIN:VEVENT
DTSTART;TZID=UTC:20240913T133000
DTEND;TZID=UTC:20240913T170000
DTSTAMP:20260425T221314
CREATED:20240909T140048Z
LAST-MODIFIED:20240909T140048Z
UID:3153-1726234200-1726246800@institutosanpedro.cl
SUMMARY:Encuentro Fiestas Patrias Funcionarios
DESCRIPTION:
URL:https://institutosanpedro.cl/inicio/calendario/encuentro-fiestas-patrias-funcionarios/
CATEGORIES:Verde Fluor
END:VEVENT
BEGIN:VEVENT
DTSTART;TZID=UTC:20240914T144500
DTEND;TZID=UTC:20240914T170000
DTSTAMP:20260425T221314
CREATED:20240909T140241Z
LAST-MODIFIED:20240909T140437Z
UID:3155-1726325100-1726333200@institutosanpedro.cl
SUMMARY:Curso Natación Estudiantes III y IV medio UNAB
DESCRIPTION:
URL:https://institutosanpedro.cl/inicio/calendario/curso-natacion-estudiantes-iii-y-iv-medio-unab/
CATEGORIES:Celeste
END:VEVENT
BEGIN:VEVENT
DTSTART;VALUE=DATE:20240916
DTEND;VALUE=DATE:20240922
DTSTAMP:20260425T221314
CREATED:20240912T122153Z
LAST-MODIFIED:20240912T122223Z
UID:3174-1726444800-1726963199@institutosanpedro.cl
SUMMARY:Receso Fiestas Patrias
DESCRIPTION:
URL:https://institutosanpedro.cl/inicio/calendario/receso-fiestas-patrias/
CATEGORIES:Rojo FERIADOS
END:VEVENT
BEGIN:VEVENT
DTSTART;TZID=UTC:20240930T140000
DTEND;TZID=UTC:20240930T170000
DTSTAMP:20260425T221314
CREATED:20240930T152925Z
LAST-MODIFIED:20240930T152925Z
UID:3288-1727704800-1727715600@institutosanpedro.cl
SUMMARY:Inauguración Semana Aniversario Jornada PM Día del Disfraz
DESCRIPTION:
URL:https://institutosanpedro.cl/inicio/calendario/inauguracion-semana-aniversario-jornada-pm-dia-del-disfraz/
CATEGORIES:Naranjo
END:VEVENT
END:VCALENDAR